BEGIN:VCALENDAR
VERSION:2.0
PRODID:-//Wailea Village - ECPv6.15.20//NONSGML v1.0//EN
CALSCALE:GREGORIAN
METHOD:PUBLISH
X-WR-CALNAME:Wailea Village
X-ORIGINAL-URL:https://waileavillage.com
X-WR-CALDESC:Events for Wailea Village
REFRESH-INTERVAL;VALUE=DURATION:PT1H
X-Robots-Tag:noindex
X-PUBLISHED-TTL:PT1H
BEGIN:VTIMEZONE
TZID:America/Los_Angeles
BEGIN:DAYLIGHT
TZOFFSETFROM:-0800
TZOFFSETTO:-0700
TZNAME:PDT
DTSTART:20230312T100000
END:DAYLIGHT
BEGIN:STANDARD
TZOFFSETFROM:-0700
TZOFFSETTO:-0800
TZNAME:PST
DTSTART:20231105T090000
END:STANDARD
BEGIN:DAYLIGHT
TZOFFSETFROM:-0800
TZOFFSETTO:-0700
TZNAME:PDT
DTSTART:20240310T100000
END:DAYLIGHT
BEGIN:STANDARD
TZOFFSETFROM:-0700
TZOFFSETTO:-0800
TZNAME:PST
DTSTART:20241103T090000
END:STANDARD
BEGIN:DAYLIGHT
TZOFFSETFROM:-0800
TZOFFSETTO:-0700
TZNAME:PDT
DTSTART:20250309T100000
END:DAYLIGHT
BEGIN:STANDARD
TZOFFSETFROM:-0700
TZOFFSETTO:-0800
TZNAME:PST
DTSTART:20251102T090000
END:STANDARD
END:VTIMEZONE
BEGIN:VEVENT
DTSTART;TZID=America/Los_Angeles:20241210T080000
DTEND;TZID=America/Los_Angeles:20241210T110000
DTSTAMP:20260422T191146
CREATED:20220223T203743Z
LAST-MODIFIED:20220223T203743Z
UID:2388-1733817600-1733828400@waileavillage.com
SUMMARY:Farmer's Market
DESCRIPTION:Follow our Instagram Page for Updates!
URL:https://waileavillage.com/event/farmers-market-2/2024-12-10/
END:VEVENT
BEGIN:VEVENT
DTSTART;TZID=America/Los_Angeles:20241203T080000
DTEND;TZID=America/Los_Angeles:20241203T110000
DTSTAMP:20260422T191146
CREATED:20220223T203743Z
LAST-MODIFIED:20220223T203743Z
UID:2387-1733212800-1733223600@waileavillage.com
SUMMARY:Farmer's Market
DESCRIPTION:Follow our Instagram Page for Updates!
URL:https://waileavillage.com/event/farmers-market-2/2024-12-03/
END:VEVENT
BEGIN:VEVENT
DTSTART;TZID=America/Los_Angeles:20241126T080000
DTEND;TZID=America/Los_Angeles:20241126T110000
DTSTAMP:20260422T191146
CREATED:20220223T203743Z
LAST-MODIFIED:20220223T203743Z
UID:2386-1732608000-1732618800@waileavillage.com
SUMMARY:Farmer's Market
DESCRIPTION:Follow our Instagram Page for Updates!
URL:https://waileavillage.com/event/farmers-market-2/2024-11-26/
END:VEVENT
BEGIN:VEVENT
DTSTART;TZID=America/Los_Angeles:20241121T160000
DTEND;TZID=America/Los_Angeles:20241121T190000
DTSTAMP:20260422T191146
CREATED:20220223T201253Z
LAST-MODIFIED:20240904T223209Z
UID:2122-1732204800-1732215600@waileavillage.com
SUMMARY:Sunset Market
DESCRIPTION:
URL:https://waileavillage.com/event/sunset-market-6/2024-11-21/
END:VEVENT
BEGIN:VEVENT
DTSTART;TZID=America/Los_Angeles:20241119T080000
DTEND;TZID=America/Los_Angeles:20241119T110000
DTSTAMP:20260422T191146
CREATED:20220223T203743Z
LAST-MODIFIED:20220223T203743Z
UID:2385-1732003200-1732014000@waileavillage.com
SUMMARY:Farmer's Market
DESCRIPTION:Follow our Instagram Page for Updates!
URL:https://waileavillage.com/event/farmers-market-2/2024-11-19/
END:VEVENT
BEGIN:VEVENT
DTSTART;TZID=America/Los_Angeles:20241112T080000
DTEND;TZID=America/Los_Angeles:20241112T110000
DTSTAMP:20260422T191146
CREATED:20220223T203743Z
LAST-MODIFIED:20220223T203743Z
UID:2384-1731398400-1731409200@waileavillage.com
SUMMARY:Farmer's Market
DESCRIPTION:Follow our Instagram Page for Updates!
URL:https://waileavillage.com/event/farmers-market-2/2024-11-12/
END:VEVENT
BEGIN:VEVENT
DTSTART;TZID=America/Los_Angeles:20241105T080000
DTEND;TZID=America/Los_Angeles:20241105T110000
DTSTAMP:20260422T191146
CREATED:20220223T203743Z
LAST-MODIFIED:20220223T203743Z
UID:2383-1730793600-1730804400@waileavillage.com
SUMMARY:Farmer's Market
DESCRIPTION:Follow our Instagram Page for Updates!
URL:https://waileavillage.com/event/farmers-market-2/2024-11-05/
END:VEVENT
BEGIN:VEVENT
DTSTART;TZID=America/Los_Angeles:20241029T080000
DTEND;TZID=America/Los_Angeles:20241029T110000
DTSTAMP:20260422T191146
CREATED:20220223T203743Z
LAST-MODIFIED:20220223T203743Z
UID:2382-1730188800-1730199600@waileavillage.com
SUMMARY:Farmer's Market
DESCRIPTION:Follow our Instagram Page for Updates!
URL:https://waileavillage.com/event/farmers-market-2/2024-10-29/
END:VEVENT
BEGIN:VEVENT
DTSTART;TZID=America/Los_Angeles:20241022T080000
DTEND;TZID=America/Los_Angeles:20241022T110000
DTSTAMP:20260422T191146
CREATED:20220223T203743Z
LAST-MODIFIED:20220223T203743Z
UID:2381-1729584000-1729594800@waileavillage.com
SUMMARY:Farmer's Market
DESCRIPTION:Follow our Instagram Page for Updates!
URL:https://waileavillage.com/event/farmers-market-2/2024-10-22/
END:VEVENT
BEGIN:VEVENT
DTSTART;TZID=America/Los_Angeles:20241017T160000
DTEND;TZID=America/Los_Angeles:20241017T190000
DTSTAMP:20260422T191146
CREATED:20241014T175334Z
LAST-MODIFIED:20241014T175334Z
UID:2249-1729180800-1729191600@waileavillage.com
SUMMARY:Halloween Costume Party
DESCRIPTION:
URL:https://waileavillage.com/event/halloween-costume-party/
END:VEVENT
BEGIN:VEVENT
DTSTART;TZID=America/Los_Angeles:20241017T160000
DTEND;TZID=America/Los_Angeles:20241017T190000
DTSTAMP:20260422T191146
CREATED:20220223T201253Z
LAST-MODIFIED:20240904T223209Z
UID:2121-1729180800-1729191600@waileavillage.com
SUMMARY:Sunset Market
DESCRIPTION:
URL:https://waileavillage.com/event/sunset-market-6/2024-10-17/
END:VEVENT
BEGIN:VEVENT
DTSTART;TZID=America/Los_Angeles:20241015T080000
DTEND;TZID=America/Los_Angeles:20241015T110000
DTSTAMP:20260422T191146
CREATED:20220223T203743Z
LAST-MODIFIED:20220223T203743Z
UID:2380-1728979200-1728990000@waileavillage.com
SUMMARY:Farmer's Market
DESCRIPTION:Follow our Instagram Page for Updates!
URL:https://waileavillage.com/event/farmers-market-2/2024-10-15/
END:VEVENT
BEGIN:VEVENT
DTSTART;TZID=America/Los_Angeles:20241008T080000
DTEND;TZID=America/Los_Angeles:20241008T110000
DTSTAMP:20260422T191146
CREATED:20220223T203743Z
LAST-MODIFIED:20220223T203743Z
UID:2379-1728374400-1728385200@waileavillage.com
SUMMARY:Farmer's Market
DESCRIPTION:Follow our Instagram Page for Updates!
URL:https://waileavillage.com/event/farmers-market-2/2024-10-08/
END:VEVENT
BEGIN:VEVENT
DTSTART;TZID=America/Los_Angeles:20241001T080000
DTEND;TZID=America/Los_Angeles:20241001T110000
DTSTAMP:20260422T191146
CREATED:20220223T203743Z
LAST-MODIFIED:20220223T203743Z
UID:2378-1727769600-1727780400@waileavillage.com
SUMMARY:Farmer's Market
DESCRIPTION:Follow our Instagram Page for Updates!
URL:https://waileavillage.com/event/farmers-market-2/2024-10-01/
END:VEVENT
BEGIN:VEVENT
DTSTART;TZID=America/Los_Angeles:20240924T080000
DTEND;TZID=America/Los_Angeles:20240924T110000
DTSTAMP:20260422T191146
CREATED:20220223T203743Z
LAST-MODIFIED:20220223T203743Z
UID:2377-1727164800-1727175600@waileavillage.com
SUMMARY:Farmer's Market
DESCRIPTION:Follow our Instagram Page for Updates!
URL:https://waileavillage.com/event/farmers-market-2/2024-09-24/
END:VEVENT
BEGIN:VEVENT
DTSTART;TZID=America/Los_Angeles:20240919T160000
DTEND;TZID=America/Los_Angeles:20240919T190000
DTSTAMP:20260422T191146
CREATED:20220223T201253Z
LAST-MODIFIED:20240904T223208Z
UID:2120-1726761600-1726772400@waileavillage.com
SUMMARY:Sunset Market
DESCRIPTION:
URL:https://waileavillage.com/event/sunset-market-6/2024-09-19/
END:VEVENT
BEGIN:VEVENT
DTSTART;TZID=America/Los_Angeles:20240917T080000
DTEND;TZID=America/Los_Angeles:20240917T110000
DTSTAMP:20260422T191146
CREATED:20220223T203743Z
LAST-MODIFIED:20220223T203743Z
UID:2376-1726560000-1726570800@waileavillage.com
SUMMARY:Farmer's Market
DESCRIPTION:Follow our Instagram Page for Updates!
URL:https://waileavillage.com/event/farmers-market-2/2024-09-17/
END:VEVENT
BEGIN:VEVENT
DTSTART;TZID=America/Los_Angeles:20240910T080000
DTEND;TZID=America/Los_Angeles:20240910T110000
DTSTAMP:20260422T191146
CREATED:20220223T203743Z
LAST-MODIFIED:20220223T203743Z
UID:2375-1725955200-1725966000@waileavillage.com
SUMMARY:Farmer's Market
DESCRIPTION:Follow our Instagram Page for Updates!
URL:https://waileavillage.com/event/farmers-market-2/2024-09-10/
END:VEVENT
BEGIN:VEVENT
DTSTART;TZID=America/Los_Angeles:20240903T080000
DTEND;TZID=America/Los_Angeles:20240903T110000
DTSTAMP:20260422T191146
CREATED:20220223T203743Z
LAST-MODIFIED:20220223T203743Z
UID:2374-1725350400-1725361200@waileavillage.com
SUMMARY:Farmer's Market
DESCRIPTION:Follow our Instagram Page for Updates!
URL:https://waileavillage.com/event/farmers-market-2/2024-09-03/
END:VEVENT
BEGIN:VEVENT
DTSTART;TZID=America/Los_Angeles:20240827T080000
DTEND;TZID=America/Los_Angeles:20240827T110000
DTSTAMP:20260422T191146
CREATED:20220223T203743Z
LAST-MODIFIED:20220223T203743Z
UID:2373-1724745600-1724756400@waileavillage.com
SUMMARY:Farmer's Market
DESCRIPTION:Follow our Instagram Page for Updates!
URL:https://waileavillage.com/event/farmers-market-2/2024-08-27/
END:VEVENT
BEGIN:VEVENT
DTSTART;TZID=America/Los_Angeles:20240820T080000
DTEND;TZID=America/Los_Angeles:20240820T110000
DTSTAMP:20260422T191146
CREATED:20220223T203743Z
LAST-MODIFIED:20220223T203743Z
UID:2372-1724140800-1724151600@waileavillage.com
SUMMARY:Farmer's Market
DESCRIPTION:Follow our Instagram Page for Updates!
URL:https://waileavillage.com/event/farmers-market-2/2024-08-20/
END:VEVENT
BEGIN:VEVENT
DTSTART;TZID=America/Los_Angeles:20240815T160000
DTEND;TZID=America/Los_Angeles:20240815T190000
DTSTAMP:20260422T191146
CREATED:20220223T201253Z
LAST-MODIFIED:20240904T223208Z
UID:2119-1723737600-1723748400@waileavillage.com
SUMMARY:Sunset Market
DESCRIPTION:
URL:https://waileavillage.com/event/sunset-market-6/2024-08-15/
END:VEVENT
BEGIN:VEVENT
DTSTART;TZID=America/Los_Angeles:20240813T080000
DTEND;TZID=America/Los_Angeles:20240813T110000
DTSTAMP:20260422T191146
CREATED:20220223T203743Z
LAST-MODIFIED:20220223T203743Z
UID:2371-1723536000-1723546800@waileavillage.com
SUMMARY:Farmer's Market
DESCRIPTION:Follow our Instagram Page for Updates!
URL:https://waileavillage.com/event/farmers-market-2/2024-08-13/
END:VEVENT
BEGIN:VEVENT
DTSTART;TZID=America/Los_Angeles:20240806T080000
DTEND;TZID=America/Los_Angeles:20240806T110000
DTSTAMP:20260422T191146
CREATED:20220223T203743Z
LAST-MODIFIED:20220223T203743Z
UID:2370-1722931200-1722942000@waileavillage.com
SUMMARY:Farmer's Market
DESCRIPTION:Follow our Instagram Page for Updates!
URL:https://waileavillage.com/event/farmers-market-2/2024-08-06/
END:VEVENT
BEGIN:VEVENT
DTSTART;TZID=America/Los_Angeles:20240730T080000
DTEND;TZID=America/Los_Angeles:20240730T110000
DTSTAMP:20260422T191146
CREATED:20220223T203743Z
LAST-MODIFIED:20220223T203743Z
UID:2369-1722326400-1722337200@waileavillage.com
SUMMARY:Farmer's Market
DESCRIPTION:Follow our Instagram Page for Updates!
URL:https://waileavillage.com/event/farmers-market-2/2024-07-30/
END:VEVENT
BEGIN:VEVENT
DTSTART;TZID=America/Los_Angeles:20240723T080000
DTEND;TZID=America/Los_Angeles:20240723T110000
DTSTAMP:20260422T191146
CREATED:20220223T203743Z
LAST-MODIFIED:20220223T203743Z
UID:2368-1721721600-1721732400@waileavillage.com
SUMMARY:Farmer's Market
DESCRIPTION:Follow our Instagram Page for Updates!
URL:https://waileavillage.com/event/farmers-market-2/2024-07-23/
END:VEVENT
BEGIN:VEVENT
DTSTART;TZID=America/Los_Angeles:20240718T160000
DTEND;TZID=America/Los_Angeles:20240718T190000
DTSTAMP:20260422T191146
CREATED:20220223T201253Z
LAST-MODIFIED:20240904T223208Z
UID:2118-1721318400-1721329200@waileavillage.com
SUMMARY:Sunset Market
DESCRIPTION:
URL:https://waileavillage.com/event/sunset-market-6/2024-07-18/
END:VEVENT
BEGIN:VEVENT
DTSTART;TZID=America/Los_Angeles:20240716T080000
DTEND;TZID=America/Los_Angeles:20240716T110000
DTSTAMP:20260422T191146
CREATED:20220223T203743Z
LAST-MODIFIED:20220223T203743Z
UID:2367-1721116800-1721127600@waileavillage.com
SUMMARY:Farmer's Market
DESCRIPTION:Follow our Instagram Page for Updates!
URL:https://waileavillage.com/event/farmers-market-2/2024-07-16/
END:VEVENT
BEGIN:VEVENT
DTSTART;TZID=America/Los_Angeles:20240709T080000
DTEND;TZID=America/Los_Angeles:20240709T110000
DTSTAMP:20260422T191146
CREATED:20220223T203743Z
LAST-MODIFIED:20220223T203743Z
UID:2366-1720512000-1720522800@waileavillage.com
SUMMARY:Farmer's Market
DESCRIPTION:Follow our Instagram Page for Updates!
URL:https://waileavillage.com/event/farmers-market-2/2024-07-09/
END:VEVENT
BEGIN:VEVENT
DTSTART;TZID=America/Los_Angeles:20240702T080000
DTEND;TZID=America/Los_Angeles:20240702T110000
DTSTAMP:20260422T191146
CREATED:20220223T203743Z
LAST-MODIFIED:20220223T203743Z
UID:2365-1719907200-1719918000@waileavillage.com
SUMMARY:Farmer's Market
DESCRIPTION:Follow our Instagram Page for Updates!
URL:https://waileavillage.com/event/farmers-market-2/2024-07-02/
END:VEVENT
END:VCALENDAR