BEGIN:VCALENDAR
VERSION:2.0
PRODID:-//Wailea Village - ECPv6.15.20//NONSGML v1.0//EN
CALSCALE:GREGORIAN
METHOD:PUBLISH
X-WR-CALNAME:Wailea Village
X-ORIGINAL-URL:https://waileavillage.com
X-WR-CALDESC:Events for Wailea Village
REFRESH-INTERVAL;VALUE=DURATION:PT1H
X-Robots-Tag:noindex
X-PUBLISHED-TTL:PT1H
BEGIN:VTIMEZONE
TZID:America/Los_Angeles
BEGIN:DAYLIGHT
TZOFFSETFROM:-0800
TZOFFSETTO:-0700
TZNAME:PDT
DTSTART:20230312T100000
END:DAYLIGHT
BEGIN:STANDARD
TZOFFSETFROM:-0700
TZOFFSETTO:-0800
TZNAME:PST
DTSTART:20231105T090000
END:STANDARD
BEGIN:DAYLIGHT
TZOFFSETFROM:-0800
TZOFFSETTO:-0700
TZNAME:PDT
DTSTART:20240310T100000
END:DAYLIGHT
BEGIN:STANDARD
TZOFFSETFROM:-0700
TZOFFSETTO:-0800
TZNAME:PST
DTSTART:20241103T090000
END:STANDARD
BEGIN:DAYLIGHT
TZOFFSETFROM:-0800
TZOFFSETTO:-0700
TZNAME:PDT
DTSTART:20250309T100000
END:DAYLIGHT
BEGIN:STANDARD
TZOFFSETFROM:-0700
TZOFFSETTO:-0800
TZNAME:PST
DTSTART:20251102T090000
END:STANDARD
BEGIN:DAYLIGHT
TZOFFSETFROM:-0800
TZOFFSETTO:-0700
TZNAME:PDT
DTSTART:20260308T100000
END:DAYLIGHT
BEGIN:STANDARD
TZOFFSETFROM:-0700
TZOFFSETTO:-0800
TZNAME:PST
DTSTART:20261101T090000
END:STANDARD
END:VTIMEZONE
BEGIN:VEVENT
DTSTART;TZID=America/Los_Angeles:20250515T160000
DTEND;TZID=America/Los_Angeles:20250515T190000
DTSTAMP:20260423T040154
CREATED:20220223T201253Z
LAST-MODIFIED:20240904T223212Z
UID:2128-1747324800-1747335600@waileavillage.com
SUMMARY:Sunset Market
DESCRIPTION:
URL:https://waileavillage.com/event/sunset-market-6/2025-05-15/
END:VEVENT
BEGIN:VEVENT
DTSTART;TZID=America/Los_Angeles:20250513T080000
DTEND;TZID=America/Los_Angeles:20250513T110000
DTSTAMP:20260423T040154
CREATED:20220223T203743Z
LAST-MODIFIED:20220223T203743Z
UID:2410-1747123200-1747134000@waileavillage.com
SUMMARY:Farmer's Market
DESCRIPTION:Follow our Instagram Page for Updates!
URL:https://waileavillage.com/event/farmers-market-2/2025-05-13/
END:VEVENT
BEGIN:VEVENT
DTSTART;TZID=America/Los_Angeles:20250506T080000
DTEND;TZID=America/Los_Angeles:20250506T110000
DTSTAMP:20260423T040154
CREATED:20220223T203743Z
LAST-MODIFIED:20220223T203743Z
UID:2409-1746518400-1746529200@waileavillage.com
SUMMARY:Farmer's Market
DESCRIPTION:Follow our Instagram Page for Updates!
URL:https://waileavillage.com/event/farmers-market-2/2025-05-06/
END:VEVENT
BEGIN:VEVENT
DTSTART;TZID=America/Los_Angeles:20250429T080000
DTEND;TZID=America/Los_Angeles:20250429T110000
DTSTAMP:20260423T040154
CREATED:20220223T203743Z
LAST-MODIFIED:20220223T203743Z
UID:2408-1745913600-1745924400@waileavillage.com
SUMMARY:Farmer's Market
DESCRIPTION:Follow our Instagram Page for Updates!
URL:https://waileavillage.com/event/farmers-market-2/2025-04-29/
END:VEVENT
BEGIN:VEVENT
DTSTART;TZID=America/Los_Angeles:20250422T080000
DTEND;TZID=America/Los_Angeles:20250422T110000
DTSTAMP:20260423T040154
CREATED:20220223T203743Z
LAST-MODIFIED:20220223T203743Z
UID:2407-1745308800-1745319600@waileavillage.com
SUMMARY:Farmer's Market
DESCRIPTION:Follow our Instagram Page for Updates!
URL:https://waileavillage.com/event/farmers-market-2/2025-04-22/
END:VEVENT
BEGIN:VEVENT
DTSTART;TZID=America/Los_Angeles:20250417T160000
DTEND;TZID=America/Los_Angeles:20250417T190000
DTSTAMP:20260423T040154
CREATED:20220223T201253Z
LAST-MODIFIED:20240904T223212Z
UID:2127-1744905600-1744916400@waileavillage.com
SUMMARY:Sunset Market
DESCRIPTION:
URL:https://waileavillage.com/event/sunset-market-6/2025-04-17/
END:VEVENT
BEGIN:VEVENT
DTSTART;TZID=America/Los_Angeles:20250415T080000
DTEND;TZID=America/Los_Angeles:20250415T110000
DTSTAMP:20260423T040154
CREATED:20220223T203743Z
LAST-MODIFIED:20220223T203743Z
UID:2406-1744704000-1744714800@waileavillage.com
SUMMARY:Farmer's Market
DESCRIPTION:Follow our Instagram Page for Updates!
URL:https://waileavillage.com/event/farmers-market-2/2025-04-15/
END:VEVENT
BEGIN:VEVENT
DTSTART;TZID=America/Los_Angeles:20250408T080000
DTEND;TZID=America/Los_Angeles:20250408T110000
DTSTAMP:20260423T040154
CREATED:20220223T203743Z
LAST-MODIFIED:20220223T203743Z
UID:2405-1744099200-1744110000@waileavillage.com
SUMMARY:Farmer's Market
DESCRIPTION:Follow our Instagram Page for Updates!
URL:https://waileavillage.com/event/farmers-market-2/2025-04-08/
END:VEVENT
BEGIN:VEVENT
DTSTART;TZID=America/Los_Angeles:20250401T080000
DTEND;TZID=America/Los_Angeles:20250401T110000
DTSTAMP:20260423T040154
CREATED:20220223T203743Z
LAST-MODIFIED:20220223T203743Z
UID:2404-1743494400-1743505200@waileavillage.com
SUMMARY:Farmer's Market
DESCRIPTION:Follow our Instagram Page for Updates!
URL:https://waileavillage.com/event/farmers-market-2/2025-04-01/
END:VEVENT
BEGIN:VEVENT
DTSTART;TZID=America/Los_Angeles:20250325T080000
DTEND;TZID=America/Los_Angeles:20250325T110000
DTSTAMP:20260423T040154
CREATED:20220223T203743Z
LAST-MODIFIED:20220223T203743Z
UID:2403-1742889600-1742900400@waileavillage.com
SUMMARY:Farmer's Market
DESCRIPTION:Follow our Instagram Page for Updates!
URL:https://waileavillage.com/event/farmers-market-2/2025-03-25/
END:VEVENT
BEGIN:VEVENT
DTSTART;TZID=America/Los_Angeles:20250320T160000
DTEND;TZID=America/Los_Angeles:20250320T190000
DTSTAMP:20260423T040154
CREATED:20220223T201253Z
LAST-MODIFIED:20240904T223212Z
UID:2126-1742486400-1742497200@waileavillage.com
SUMMARY:Sunset Market
DESCRIPTION:
URL:https://waileavillage.com/event/sunset-market-6/2025-03-20/
END:VEVENT
BEGIN:VEVENT
DTSTART;TZID=America/Los_Angeles:20250318T080000
DTEND;TZID=America/Los_Angeles:20250318T110000
DTSTAMP:20260423T040154
CREATED:20220223T203743Z
LAST-MODIFIED:20220223T203743Z
UID:2402-1742284800-1742295600@waileavillage.com
SUMMARY:Farmer's Market
DESCRIPTION:Follow our Instagram Page for Updates!
URL:https://waileavillage.com/event/farmers-market-2/2025-03-18/
END:VEVENT
BEGIN:VEVENT
DTSTART;TZID=America/Los_Angeles:20250311T080000
DTEND;TZID=America/Los_Angeles:20250311T110000
DTSTAMP:20260423T040154
CREATED:20220223T203743Z
LAST-MODIFIED:20220223T203743Z
UID:2401-1741680000-1741690800@waileavillage.com
SUMMARY:Farmer's Market
DESCRIPTION:Follow our Instagram Page for Updates!
URL:https://waileavillage.com/event/farmers-market-2/2025-03-11/
END:VEVENT
BEGIN:VEVENT
DTSTART;TZID=America/Los_Angeles:20250304T080000
DTEND;TZID=America/Los_Angeles:20250304T110000
DTSTAMP:20260423T040154
CREATED:20220223T203743Z
LAST-MODIFIED:20220223T203743Z
UID:2400-1741075200-1741086000@waileavillage.com
SUMMARY:Farmer's Market
DESCRIPTION:Follow our Instagram Page for Updates!
URL:https://waileavillage.com/event/farmers-market-2/2025-03-04/
END:VEVENT
BEGIN:VEVENT
DTSTART;TZID=America/Los_Angeles:20250225T080000
DTEND;TZID=America/Los_Angeles:20250225T110000
DTSTAMP:20260423T040154
CREATED:20220223T203743Z
LAST-MODIFIED:20220223T203743Z
UID:2399-1740470400-1740481200@waileavillage.com
SUMMARY:Farmer's Market
DESCRIPTION:Follow our Instagram Page for Updates!
URL:https://waileavillage.com/event/farmers-market-2/2025-02-25/
END:VEVENT
BEGIN:VEVENT
DTSTART;TZID=America/Los_Angeles:20250220T160000
DTEND;TZID=America/Los_Angeles:20250220T190000
DTSTAMP:20260423T040154
CREATED:20220223T201253Z
LAST-MODIFIED:20240904T223210Z
UID:2125-1740067200-1740078000@waileavillage.com
SUMMARY:Sunset Market
DESCRIPTION:
URL:https://waileavillage.com/event/sunset-market-6/2025-02-20/
END:VEVENT
BEGIN:VEVENT
DTSTART;TZID=America/Los_Angeles:20250218T080000
DTEND;TZID=America/Los_Angeles:20250218T110000
DTSTAMP:20260423T040154
CREATED:20220223T203743Z
LAST-MODIFIED:20220223T203743Z
UID:2398-1739865600-1739876400@waileavillage.com
SUMMARY:Farmer's Market
DESCRIPTION:Follow our Instagram Page for Updates!
URL:https://waileavillage.com/event/farmers-market-2/2025-02-18/
END:VEVENT
BEGIN:VEVENT
DTSTART;TZID=America/Los_Angeles:20250211T080000
DTEND;TZID=America/Los_Angeles:20250211T110000
DTSTAMP:20260423T040154
CREATED:20220223T203743Z
LAST-MODIFIED:20220223T203743Z
UID:2397-1739260800-1739271600@waileavillage.com
SUMMARY:Farmer's Market
DESCRIPTION:Follow our Instagram Page for Updates!
URL:https://waileavillage.com/event/farmers-market-2/2025-02-11/
END:VEVENT
BEGIN:VEVENT
DTSTART;TZID=America/Los_Angeles:20250204T080000
DTEND;TZID=America/Los_Angeles:20250204T110000
DTSTAMP:20260423T040154
CREATED:20220223T203743Z
LAST-MODIFIED:20220223T203743Z
UID:2396-1738656000-1738666800@waileavillage.com
SUMMARY:Farmer's Market
DESCRIPTION:Follow our Instagram Page for Updates!
URL:https://waileavillage.com/event/farmers-market-2/2025-02-04/
END:VEVENT
BEGIN:VEVENT
DTSTART;TZID=America/Los_Angeles:20250131T160000
DTEND;TZID=America/Los_Angeles:20250131T200000
DTSTAMP:20260423T040154
CREATED:20250114T183232Z
LAST-MODIFIED:20250114T183232Z
UID:2301-1738339200-1738353600@waileavillage.com
SUMMARY:Chinese New Year
DESCRIPTION:
URL:https://waileavillage.com/event/chinese-new-year/
END:VEVENT
BEGIN:VEVENT
DTSTART;TZID=America/Los_Angeles:20250128T080000
DTEND;TZID=America/Los_Angeles:20250128T110000
DTSTAMP:20260423T040154
CREATED:20220223T203743Z
LAST-MODIFIED:20220223T203743Z
UID:2395-1738051200-1738062000@waileavillage.com
SUMMARY:Farmer's Market
DESCRIPTION:Follow our Instagram Page for Updates!
URL:https://waileavillage.com/event/farmers-market-2/2025-01-28/
END:VEVENT
BEGIN:VEVENT
DTSTART;TZID=America/Los_Angeles:20250121T080000
DTEND;TZID=America/Los_Angeles:20250121T110000
DTSTAMP:20260423T040154
CREATED:20220223T203743Z
LAST-MODIFIED:20220223T203743Z
UID:2394-1737446400-1737457200@waileavillage.com
SUMMARY:Farmer's Market
DESCRIPTION:Follow our Instagram Page for Updates!
URL:https://waileavillage.com/event/farmers-market-2/2025-01-21/
END:VEVENT
BEGIN:VEVENT
DTSTART;TZID=America/Los_Angeles:20250116T160000
DTEND;TZID=America/Los_Angeles:20250116T190000
DTSTAMP:20260423T040154
CREATED:20220223T201253Z
LAST-MODIFIED:20240904T223210Z
UID:2124-1737043200-1737054000@waileavillage.com
SUMMARY:Sunset Market
DESCRIPTION:
URL:https://waileavillage.com/event/sunset-market-6/2025-01-16/
END:VEVENT
BEGIN:VEVENT
DTSTART;TZID=America/Los_Angeles:20250114T080000
DTEND;TZID=America/Los_Angeles:20250114T110000
DTSTAMP:20260423T040154
CREATED:20220223T203743Z
LAST-MODIFIED:20220223T203743Z
UID:2393-1736841600-1736852400@waileavillage.com
SUMMARY:Farmer's Market
DESCRIPTION:Follow our Instagram Page for Updates!
URL:https://waileavillage.com/event/farmers-market-2/2025-01-14/
END:VEVENT
BEGIN:VEVENT
DTSTART;TZID=America/Los_Angeles:20250107T080000
DTEND;TZID=America/Los_Angeles:20250107T110000
DTSTAMP:20260423T040154
CREATED:20220223T203743Z
LAST-MODIFIED:20220223T203743Z
UID:2392-1736236800-1736247600@waileavillage.com
SUMMARY:Farmer's Market
DESCRIPTION:Follow our Instagram Page for Updates!
URL:https://waileavillage.com/event/farmers-market-2/2025-01-07/
END:VEVENT
BEGIN:VEVENT
DTSTART;TZID=America/Los_Angeles:20241231T080000
DTEND;TZID=America/Los_Angeles:20241231T110000
DTSTAMP:20260423T040154
CREATED:20220223T203743Z
LAST-MODIFIED:20220223T203743Z
UID:2391-1735632000-1735642800@waileavillage.com
SUMMARY:Farmer's Market
DESCRIPTION:Follow our Instagram Page for Updates!
URL:https://waileavillage.com/event/farmers-market-2/2024-12-31/
END:VEVENT
BEGIN:VEVENT
DTSTART;TZID=America/Los_Angeles:20241224T080000
DTEND;TZID=America/Los_Angeles:20241224T110000
DTSTAMP:20260423T040154
CREATED:20220223T203743Z
LAST-MODIFIED:20220223T203743Z
UID:2390-1735027200-1735038000@waileavillage.com
SUMMARY:Farmer's Market
DESCRIPTION:Follow our Instagram Page for Updates!
URL:https://waileavillage.com/event/farmers-market-2/2024-12-24/
END:VEVENT
BEGIN:VEVENT
DTSTART;TZID=America/Los_Angeles:20241219T160000
DTEND;TZID=America/Los_Angeles:20241219T190000
DTSTAMP:20260423T040154
CREATED:20220223T201253Z
LAST-MODIFIED:20240904T223210Z
UID:2123-1734624000-1734634800@waileavillage.com
SUMMARY:Sunset Market
DESCRIPTION:
URL:https://waileavillage.com/event/sunset-market-6/2024-12-19/
END:VEVENT
BEGIN:VEVENT
DTSTART;TZID=America/Los_Angeles:20241217T080000
DTEND;TZID=America/Los_Angeles:20241217T110000
DTSTAMP:20260423T040154
CREATED:20220223T203743Z
LAST-MODIFIED:20220223T203743Z
UID:2389-1734422400-1734433200@waileavillage.com
SUMMARY:Farmer's Market
DESCRIPTION:Follow our Instagram Page for Updates!
URL:https://waileavillage.com/event/farmers-market-2/2024-12-17/
END:VEVENT
BEGIN:VEVENT
DTSTART;TZID=America/Los_Angeles:20241210T080000
DTEND;TZID=America/Los_Angeles:20241210T110000
DTSTAMP:20260423T040154
CREATED:20220223T203743Z
LAST-MODIFIED:20220223T203743Z
UID:2388-1733817600-1733828400@waileavillage.com
SUMMARY:Farmer's Market
DESCRIPTION:Follow our Instagram Page for Updates!
URL:https://waileavillage.com/event/farmers-market-2/2024-12-10/
END:VEVENT
END:VCALENDAR