BEGIN:VCALENDAR
VERSION:2.0
PRODID:-//Wailea Village - ECPv6.15.20//NONSGML v1.0//EN
CALSCALE:GREGORIAN
METHOD:PUBLISH
X-WR-CALNAME:Wailea Village
X-ORIGINAL-URL:https://waileavillage.com
X-WR-CALDESC:Events for Wailea Village
REFRESH-INTERVAL;VALUE=DURATION:PT1H
X-Robots-Tag:noindex
X-PUBLISHED-TTL:PT1H
BEGIN:VTIMEZONE
TZID:America/Los_Angeles
BEGIN:DAYLIGHT
TZOFFSETFROM:-0800
TZOFFSETTO:-0700
TZNAME:PDT
DTSTART:20250309T100000
END:DAYLIGHT
BEGIN:STANDARD
TZOFFSETFROM:-0700
TZOFFSETTO:-0800
TZNAME:PST
DTSTART:20251102T090000
END:STANDARD
BEGIN:DAYLIGHT
TZOFFSETFROM:-0800
TZOFFSETTO:-0700
TZNAME:PDT
DTSTART:20260308T100000
END:DAYLIGHT
BEGIN:STANDARD
TZOFFSETFROM:-0700
TZOFFSETTO:-0800
TZNAME:PST
DTSTART:20261101T090000
END:STANDARD
BEGIN:DAYLIGHT
TZOFFSETFROM:-0800
TZOFFSETTO:-0700
TZNAME:PDT
DTSTART:20270314T100000
END:DAYLIGHT
BEGIN:STANDARD
TZOFFSETFROM:-0700
TZOFFSETTO:-0800
TZNAME:PST
DTSTART:20271107T090000
END:STANDARD
BEGIN:DAYLIGHT
TZOFFSETFROM:-0800
TZOFFSETTO:-0700
TZNAME:PDT
DTSTART:20280312T100000
END:DAYLIGHT
BEGIN:STANDARD
TZOFFSETFROM:-0700
TZOFFSETTO:-0800
TZNAME:PST
DTSTART:20281105T090000
END:STANDARD
END:VTIMEZONE
BEGIN:VEVENT
DTSTART;TZID=America/Los_Angeles:20261015T160000
DTEND;TZID=America/Los_Angeles:20261015T190000
DTSTAMP:20260422T152404
CREATED:20220223T201253Z
LAST-MODIFIED:20220223T201253Z
UID:2528-1792080000-1792090800@waileavillage.com
SUMMARY:Sunset Market
DESCRIPTION:
URL:https://waileavillage.com/event/sunset-market-6/2026-10-15/
END:VEVENT
BEGIN:VEVENT
DTSTART;TZID=America/Los_Angeles:20261020T080000
DTEND;TZID=America/Los_Angeles:20261020T110000
DTSTAMP:20260422T152404
CREATED:20220223T203743Z
LAST-MODIFIED:20220223T203743Z
UID:2484-1792483200-1792494000@waileavillage.com
SUMMARY:Farmer's Market
DESCRIPTION:Follow our Instagram Page for Updates!
URL:https://waileavillage.com/event/farmers-market-2/2026-10-20/
END:VEVENT
BEGIN:VEVENT
DTSTART;TZID=America/Los_Angeles:20261027T080000
DTEND;TZID=America/Los_Angeles:20261027T110000
DTSTAMP:20260422T152404
CREATED:20220223T203743Z
LAST-MODIFIED:20220223T203743Z
UID:2485-1793088000-1793098800@waileavillage.com
SUMMARY:Farmer's Market
DESCRIPTION:Follow our Instagram Page for Updates!
URL:https://waileavillage.com/event/farmers-market-2/2026-10-27/
END:VEVENT
BEGIN:VEVENT
DTSTART;TZID=America/Los_Angeles:20261103T080000
DTEND;TZID=America/Los_Angeles:20261103T110000
DTSTAMP:20260422T152404
CREATED:20220223T203743Z
LAST-MODIFIED:20220223T203743Z
UID:2486-1793692800-1793703600@waileavillage.com
SUMMARY:Farmer's Market
DESCRIPTION:Follow our Instagram Page for Updates!
URL:https://waileavillage.com/event/farmers-market-2/2026-11-03/
END:VEVENT
BEGIN:VEVENT
DTSTART;TZID=America/Los_Angeles:20261110T080000
DTEND;TZID=America/Los_Angeles:20261110T110000
DTSTAMP:20260422T152404
CREATED:20220223T203743Z
LAST-MODIFIED:20220223T203743Z
UID:2487-1794297600-1794308400@waileavillage.com
SUMMARY:Farmer's Market
DESCRIPTION:Follow our Instagram Page for Updates!
URL:https://waileavillage.com/event/farmers-market-2/2026-11-10/
END:VEVENT
BEGIN:VEVENT
DTSTART;TZID=America/Los_Angeles:20261117T080000
DTEND;TZID=America/Los_Angeles:20261117T110000
DTSTAMP:20260422T152404
CREATED:20220223T203743Z
LAST-MODIFIED:20220223T203743Z
UID:2488-1794902400-1794913200@waileavillage.com
SUMMARY:Farmer's Market
DESCRIPTION:Follow our Instagram Page for Updates!
URL:https://waileavillage.com/event/farmers-market-2/2026-11-17/
END:VEVENT
BEGIN:VEVENT
DTSTART;TZID=America/Los_Angeles:20261119T160000
DTEND;TZID=America/Los_Angeles:20261119T190000
DTSTAMP:20260422T152404
CREATED:20220223T201253Z
LAST-MODIFIED:20220223T201253Z
UID:2529-1795104000-1795114800@waileavillage.com
SUMMARY:Sunset Market
DESCRIPTION:
URL:https://waileavillage.com/event/sunset-market-6/2026-11-19/
END:VEVENT
BEGIN:VEVENT
DTSTART;TZID=America/Los_Angeles:20261124T080000
DTEND;TZID=America/Los_Angeles:20261124T110000
DTSTAMP:20260422T152404
CREATED:20220223T203743Z
LAST-MODIFIED:20220223T203743Z
UID:2489-1795507200-1795518000@waileavillage.com
SUMMARY:Farmer's Market
DESCRIPTION:Follow our Instagram Page for Updates!
URL:https://waileavillage.com/event/farmers-market-2/2026-11-24/
END:VEVENT
BEGIN:VEVENT
DTSTART;TZID=America/Los_Angeles:20261201T080000
DTEND;TZID=America/Los_Angeles:20261201T110000
DTSTAMP:20260422T152404
CREATED:20220223T203743Z
LAST-MODIFIED:20220223T203743Z
UID:2490-1796112000-1796122800@waileavillage.com
SUMMARY:Farmer's Market
DESCRIPTION:Follow our Instagram Page for Updates!
URL:https://waileavillage.com/event/farmers-market-2/2026-12-01/
END:VEVENT
BEGIN:VEVENT
DTSTART;TZID=America/Los_Angeles:20261208T080000
DTEND;TZID=America/Los_Angeles:20261208T110000
DTSTAMP:20260422T152404
CREATED:20220223T203743Z
LAST-MODIFIED:20220223T203743Z
UID:2491-1796716800-1796727600@waileavillage.com
SUMMARY:Farmer's Market
DESCRIPTION:Follow our Instagram Page for Updates!
URL:https://waileavillage.com/event/farmers-market-2/2026-12-08/
END:VEVENT
BEGIN:VEVENT
DTSTART;TZID=America/Los_Angeles:20261215T080000
DTEND;TZID=America/Los_Angeles:20261215T110000
DTSTAMP:20260422T152404
CREATED:20220223T203743Z
LAST-MODIFIED:20220223T203743Z
UID:2492-1797321600-1797332400@waileavillage.com
SUMMARY:Farmer's Market
DESCRIPTION:Follow our Instagram Page for Updates!
URL:https://waileavillage.com/event/farmers-market-2/2026-12-15/
END:VEVENT
BEGIN:VEVENT
DTSTART;TZID=America/Los_Angeles:20261217T160000
DTEND;TZID=America/Los_Angeles:20261217T190000
DTSTAMP:20260422T152404
CREATED:20220223T201253Z
LAST-MODIFIED:20220223T201253Z
UID:2530-1797523200-1797534000@waileavillage.com
SUMMARY:Sunset Market
DESCRIPTION:
URL:https://waileavillage.com/event/sunset-market-6/2026-12-17/
END:VEVENT
BEGIN:VEVENT
DTSTART;TZID=America/Los_Angeles:20261222T080000
DTEND;TZID=America/Los_Angeles:20261222T110000
DTSTAMP:20260422T152404
CREATED:20220223T203743Z
LAST-MODIFIED:20220223T203743Z
UID:2493-1797926400-1797937200@waileavillage.com
SUMMARY:Farmer's Market
DESCRIPTION:Follow our Instagram Page for Updates!
URL:https://waileavillage.com/event/farmers-market-2/2026-12-22/
END:VEVENT
BEGIN:VEVENT
DTSTART;TZID=America/Los_Angeles:20261229T080000
DTEND;TZID=America/Los_Angeles:20261229T110000
DTSTAMP:20260422T152404
CREATED:20220223T203743Z
LAST-MODIFIED:20220223T203743Z
UID:2494-1798531200-1798542000@waileavillage.com
SUMMARY:Farmer's Market
DESCRIPTION:Follow our Instagram Page for Updates!
URL:https://waileavillage.com/event/farmers-market-2/2026-12-29/
END:VEVENT
BEGIN:VEVENT
DTSTART;TZID=America/Los_Angeles:20270105T080000
DTEND;TZID=America/Los_Angeles:20270105T110000
DTSTAMP:20260422T152404
CREATED:20220223T203743Z
LAST-MODIFIED:20220223T203743Z
UID:2495-1799136000-1799146800@waileavillage.com
SUMMARY:Farmer's Market
DESCRIPTION:Follow our Instagram Page for Updates!
URL:https://waileavillage.com/event/farmers-market-2/2027-01-05/
END:VEVENT
BEGIN:VEVENT
DTSTART;TZID=America/Los_Angeles:20270112T080000
DTEND;TZID=America/Los_Angeles:20270112T110000
DTSTAMP:20260422T152404
CREATED:20220223T203743Z
LAST-MODIFIED:20220223T203743Z
UID:2496-1799740800-1799751600@waileavillage.com
SUMMARY:Farmer's Market
DESCRIPTION:Follow our Instagram Page for Updates!
URL:https://waileavillage.com/event/farmers-market-2/2027-01-12/
END:VEVENT
BEGIN:VEVENT
DTSTART;TZID=America/Los_Angeles:20270119T080000
DTEND;TZID=America/Los_Angeles:20270119T110000
DTSTAMP:20260422T152404
CREATED:20220223T203743Z
LAST-MODIFIED:20220223T203743Z
UID:2497-1800345600-1800356400@waileavillage.com
SUMMARY:Farmer's Market
DESCRIPTION:Follow our Instagram Page for Updates!
URL:https://waileavillage.com/event/farmers-market-2/2027-01-19/
END:VEVENT
BEGIN:VEVENT
DTSTART;TZID=America/Los_Angeles:20270121T160000
DTEND;TZID=America/Los_Angeles:20270121T190000
DTSTAMP:20260422T152404
CREATED:20220223T201253Z
LAST-MODIFIED:20220223T201253Z
UID:2531-1800547200-1800558000@waileavillage.com
SUMMARY:Sunset Market
DESCRIPTION:
URL:https://waileavillage.com/event/sunset-market-6/2027-01-21/
END:VEVENT
BEGIN:VEVENT
DTSTART;TZID=America/Los_Angeles:20270126T080000
DTEND;TZID=America/Los_Angeles:20270126T110000
DTSTAMP:20260422T152404
CREATED:20220223T203743Z
LAST-MODIFIED:20220223T203743Z
UID:2498-1800950400-1800961200@waileavillage.com
SUMMARY:Farmer's Market
DESCRIPTION:Follow our Instagram Page for Updates!
URL:https://waileavillage.com/event/farmers-market-2/2027-01-26/
END:VEVENT
BEGIN:VEVENT
DTSTART;TZID=America/Los_Angeles:20270202T080000
DTEND;TZID=America/Los_Angeles:20270202T110000
DTSTAMP:20260422T152404
CREATED:20220223T203743Z
LAST-MODIFIED:20220223T203743Z
UID:2499-1801555200-1801566000@waileavillage.com
SUMMARY:Farmer's Market
DESCRIPTION:Follow our Instagram Page for Updates!
URL:https://waileavillage.com/event/farmers-market-2/2027-02-02/
END:VEVENT
BEGIN:VEVENT
DTSTART;TZID=America/Los_Angeles:20270209T080000
DTEND;TZID=America/Los_Angeles:20270209T110000
DTSTAMP:20260422T152404
CREATED:20220223T203743Z
LAST-MODIFIED:20220223T203743Z
UID:2500-1802160000-1802170800@waileavillage.com
SUMMARY:Farmer's Market
DESCRIPTION:Follow our Instagram Page for Updates!
URL:https://waileavillage.com/event/farmers-market-2/2027-02-09/
END:VEVENT
BEGIN:VEVENT
DTSTART;TZID=America/Los_Angeles:20270216T080000
DTEND;TZID=America/Los_Angeles:20270216T110000
DTSTAMP:20260422T152404
CREATED:20220223T203743Z
LAST-MODIFIED:20220223T203743Z
UID:2501-1802764800-1802775600@waileavillage.com
SUMMARY:Farmer's Market
DESCRIPTION:Follow our Instagram Page for Updates!
URL:https://waileavillage.com/event/farmers-market-2/2027-02-16/
END:VEVENT
BEGIN:VEVENT
DTSTART;TZID=America/Los_Angeles:20270218T160000
DTEND;TZID=America/Los_Angeles:20270218T190000
DTSTAMP:20260422T152404
CREATED:20220223T201253Z
LAST-MODIFIED:20220223T201253Z
UID:2532-1802966400-1802977200@waileavillage.com
SUMMARY:Sunset Market
DESCRIPTION:
URL:https://waileavillage.com/event/sunset-market-6/2027-02-18/
END:VEVENT
BEGIN:VEVENT
DTSTART;TZID=America/Los_Angeles:20270223T080000
DTEND;TZID=America/Los_Angeles:20270223T110000
DTSTAMP:20260422T152404
CREATED:20220223T203743Z
LAST-MODIFIED:20220223T203743Z
UID:2502-1803369600-1803380400@waileavillage.com
SUMMARY:Farmer's Market
DESCRIPTION:Follow our Instagram Page for Updates!
URL:https://waileavillage.com/event/farmers-market-2/2027-02-23/
END:VEVENT
BEGIN:VEVENT
DTSTART;TZID=America/Los_Angeles:20270302T080000
DTEND;TZID=America/Los_Angeles:20270302T110000
DTSTAMP:20260422T152404
CREATED:20220223T203743Z
LAST-MODIFIED:20220223T203743Z
UID:2503-1803974400-1803985200@waileavillage.com
SUMMARY:Farmer's Market
DESCRIPTION:Follow our Instagram Page for Updates!
URL:https://waileavillage.com/event/farmers-market-2/2027-03-02/
END:VEVENT
BEGIN:VEVENT
DTSTART;TZID=America/Los_Angeles:20270309T080000
DTEND;TZID=America/Los_Angeles:20270309T110000
DTSTAMP:20260422T152404
CREATED:20220223T203743Z
LAST-MODIFIED:20220223T203743Z
UID:2504-1804579200-1804590000@waileavillage.com
SUMMARY:Farmer's Market
DESCRIPTION:Follow our Instagram Page for Updates!
URL:https://waileavillage.com/event/farmers-market-2/2027-03-09/
END:VEVENT
BEGIN:VEVENT
DTSTART;TZID=America/Los_Angeles:20270316T080000
DTEND;TZID=America/Los_Angeles:20270316T110000
DTSTAMP:20260422T152404
CREATED:20220223T203743Z
LAST-MODIFIED:20220223T203743Z
UID:2505-1805184000-1805194800@waileavillage.com
SUMMARY:Farmer's Market
DESCRIPTION:Follow our Instagram Page for Updates!
URL:https://waileavillage.com/event/farmers-market-2/2027-03-16/
END:VEVENT
BEGIN:VEVENT
DTSTART;TZID=America/Los_Angeles:20270318T160000
DTEND;TZID=America/Los_Angeles:20270318T190000
DTSTAMP:20260422T152404
CREATED:20220223T201253Z
LAST-MODIFIED:20220223T201253Z
UID:2533-1805385600-1805396400@waileavillage.com
SUMMARY:Sunset Market
DESCRIPTION:
URL:https://waileavillage.com/event/sunset-market-6/2027-03-18/
END:VEVENT
BEGIN:VEVENT
DTSTART;TZID=America/Los_Angeles:20270323T080000
DTEND;TZID=America/Los_Angeles:20270323T110000
DTSTAMP:20260422T152404
CREATED:20220223T203743Z
LAST-MODIFIED:20220223T203743Z
UID:2506-1805788800-1805799600@waileavillage.com
SUMMARY:Farmer's Market
DESCRIPTION:Follow our Instagram Page for Updates!
URL:https://waileavillage.com/event/farmers-market-2/2027-03-23/
END:VEVENT
BEGIN:VEVENT
DTSTART;TZID=America/Los_Angeles:20270330T080000
DTEND;TZID=America/Los_Angeles:20270330T110000
DTSTAMP:20260422T152404
CREATED:20220223T203743Z
LAST-MODIFIED:20220223T203743Z
UID:2507-1806393600-1806404400@waileavillage.com
SUMMARY:Farmer's Market
DESCRIPTION:Follow our Instagram Page for Updates!
URL:https://waileavillage.com/event/farmers-market-2/2027-03-30/
END:VEVENT
END:VCALENDAR