BEGIN:VCALENDAR
VERSION:2.0
PRODID:-//Wailea Village - ECPv6.15.20//NONSGML v1.0//EN
CALSCALE:GREGORIAN
METHOD:PUBLISH
X-WR-CALNAME:Wailea Village
X-ORIGINAL-URL:https://waileavillage.com
X-WR-CALDESC:Events for Wailea Village
REFRESH-INTERVAL;VALUE=DURATION:PT1H
X-Robots-Tag:noindex
X-PUBLISHED-TTL:PT1H
BEGIN:VTIMEZONE
TZID:America/Los_Angeles
BEGIN:DAYLIGHT
TZOFFSETFROM:-0800
TZOFFSETTO:-0700
TZNAME:PDT
DTSTART:20240310T100000
END:DAYLIGHT
BEGIN:STANDARD
TZOFFSETFROM:-0700
TZOFFSETTO:-0800
TZNAME:PST
DTSTART:20241103T090000
END:STANDARD
BEGIN:DAYLIGHT
TZOFFSETFROM:-0800
TZOFFSETTO:-0700
TZNAME:PDT
DTSTART:20250309T100000
END:DAYLIGHT
BEGIN:STANDARD
TZOFFSETFROM:-0700
TZOFFSETTO:-0800
TZNAME:PST
DTSTART:20251102T090000
END:STANDARD
BEGIN:DAYLIGHT
TZOFFSETFROM:-0800
TZOFFSETTO:-0700
TZNAME:PDT
DTSTART:20260308T100000
END:DAYLIGHT
BEGIN:STANDARD
TZOFFSETFROM:-0700
TZOFFSETTO:-0800
TZNAME:PST
DTSTART:20261101T090000
END:STANDARD
END:VTIMEZONE
BEGIN:VEVENT
DTSTART;TZID=America/Los_Angeles:20250909T080000
DTEND;TZID=America/Los_Angeles:20250909T110000
DTSTAMP:20260422T155207
CREATED:20220223T203743Z
LAST-MODIFIED:20220223T203743Z
UID:2427-1757404800-1757415600@waileavillage.com
SUMMARY:Farmer's Market
DESCRIPTION:Follow our Instagram Page for Updates!
URL:https://waileavillage.com/event/farmers-market-2/2025-09-09/
END:VEVENT
BEGIN:VEVENT
DTSTART;TZID=America/Los_Angeles:20250902T080000
DTEND;TZID=America/Los_Angeles:20250902T110000
DTSTAMP:20260422T155207
CREATED:20220223T203743Z
LAST-MODIFIED:20220223T203743Z
UID:2426-1756800000-1756810800@waileavillage.com
SUMMARY:Farmer's Market
DESCRIPTION:Follow our Instagram Page for Updates!
URL:https://waileavillage.com/event/farmers-market-2/2025-09-02/
END:VEVENT
BEGIN:VEVENT
DTSTART;TZID=America/Los_Angeles:20250826T080000
DTEND;TZID=America/Los_Angeles:20250826T110000
DTSTAMP:20260422T155207
CREATED:20220223T203743Z
LAST-MODIFIED:20220223T203743Z
UID:2425-1756195200-1756206000@waileavillage.com
SUMMARY:Farmer's Market
DESCRIPTION:Follow our Instagram Page for Updates!
URL:https://waileavillage.com/event/farmers-market-2/2025-08-26/
END:VEVENT
BEGIN:VEVENT
DTSTART;TZID=America/Los_Angeles:20250821T160000
DTEND;TZID=America/Los_Angeles:20250821T190000
DTSTAMP:20260422T155207
CREATED:20220223T201253Z
LAST-MODIFIED:20240904T223213Z
UID:2131-1755792000-1755802800@waileavillage.com
SUMMARY:Sunset Market
DESCRIPTION:
URL:https://waileavillage.com/event/sunset-market-6/2025-08-21/
END:VEVENT
BEGIN:VEVENT
DTSTART;TZID=America/Los_Angeles:20250819T080000
DTEND;TZID=America/Los_Angeles:20250819T110000
DTSTAMP:20260422T155207
CREATED:20220223T203743Z
LAST-MODIFIED:20220223T203743Z
UID:2424-1755590400-1755601200@waileavillage.com
SUMMARY:Farmer's Market
DESCRIPTION:Follow our Instagram Page for Updates!
URL:https://waileavillage.com/event/farmers-market-2/2025-08-19/
END:VEVENT
BEGIN:VEVENT
DTSTART;TZID=America/Los_Angeles:20250812T080000
DTEND;TZID=America/Los_Angeles:20250812T110000
DTSTAMP:20260422T155207
CREATED:20220223T203743Z
LAST-MODIFIED:20220223T203743Z
UID:2423-1754985600-1754996400@waileavillage.com
SUMMARY:Farmer's Market
DESCRIPTION:Follow our Instagram Page for Updates!
URL:https://waileavillage.com/event/farmers-market-2/2025-08-12/
END:VEVENT
BEGIN:VEVENT
DTSTART;TZID=America/Los_Angeles:20250805T080000
DTEND;TZID=America/Los_Angeles:20250805T110000
DTSTAMP:20260422T155207
CREATED:20220223T203743Z
LAST-MODIFIED:20220223T203743Z
UID:2422-1754380800-1754391600@waileavillage.com
SUMMARY:Farmer's Market
DESCRIPTION:Follow our Instagram Page for Updates!
URL:https://waileavillage.com/event/farmers-market-2/2025-08-05/
END:VEVENT
BEGIN:VEVENT
DTSTART;TZID=America/Los_Angeles:20250729T080000
DTEND;TZID=America/Los_Angeles:20250729T110000
DTSTAMP:20260422T155207
CREATED:20220223T203743Z
LAST-MODIFIED:20220223T203743Z
UID:2421-1753776000-1753786800@waileavillage.com
SUMMARY:Farmer's Market
DESCRIPTION:Follow our Instagram Page for Updates!
URL:https://waileavillage.com/event/farmers-market-2/2025-07-29/
END:VEVENT
BEGIN:VEVENT
DTSTART;TZID=America/Los_Angeles:20250722T080000
DTEND;TZID=America/Los_Angeles:20250722T110000
DTSTAMP:20260422T155207
CREATED:20220223T203743Z
LAST-MODIFIED:20220223T203743Z
UID:2420-1753171200-1753182000@waileavillage.com
SUMMARY:Farmer's Market
DESCRIPTION:Follow our Instagram Page for Updates!
URL:https://waileavillage.com/event/farmers-market-2/2025-07-22/
END:VEVENT
BEGIN:VEVENT
DTSTART;TZID=America/Los_Angeles:20250717T160000
DTEND;TZID=America/Los_Angeles:20250717T190000
DTSTAMP:20260422T155207
CREATED:20220223T201253Z
LAST-MODIFIED:20240904T223213Z
UID:2130-1752768000-1752778800@waileavillage.com
SUMMARY:Sunset Market
DESCRIPTION:
URL:https://waileavillage.com/event/sunset-market-6/2025-07-17/
END:VEVENT
BEGIN:VEVENT
DTSTART;TZID=America/Los_Angeles:20250715T080000
DTEND;TZID=America/Los_Angeles:20250715T110000
DTSTAMP:20260422T155207
CREATED:20220223T203743Z
LAST-MODIFIED:20220223T203743Z
UID:2419-1752566400-1752577200@waileavillage.com
SUMMARY:Farmer's Market
DESCRIPTION:Follow our Instagram Page for Updates!
URL:https://waileavillage.com/event/farmers-market-2/2025-07-15/
END:VEVENT
BEGIN:VEVENT
DTSTART;TZID=America/Los_Angeles:20250708T080000
DTEND;TZID=America/Los_Angeles:20250708T110000
DTSTAMP:20260422T155207
CREATED:20220223T203743Z
LAST-MODIFIED:20220223T203743Z
UID:2418-1751961600-1751972400@waileavillage.com
SUMMARY:Farmer's Market
DESCRIPTION:Follow our Instagram Page for Updates!
URL:https://waileavillage.com/event/farmers-market-2/2025-07-08/
END:VEVENT
BEGIN:VEVENT
DTSTART;TZID=America/Los_Angeles:20250701T080000
DTEND;TZID=America/Los_Angeles:20250701T110000
DTSTAMP:20260422T155207
CREATED:20220223T203743Z
LAST-MODIFIED:20220223T203743Z
UID:2417-1751356800-1751367600@waileavillage.com
SUMMARY:Farmer's Market
DESCRIPTION:Follow our Instagram Page for Updates!
URL:https://waileavillage.com/event/farmers-market-2/2025-07-01/
END:VEVENT
BEGIN:VEVENT
DTSTART;TZID=America/Los_Angeles:20250624T080000
DTEND;TZID=America/Los_Angeles:20250624T110000
DTSTAMP:20260422T155207
CREATED:20220223T203743Z
LAST-MODIFIED:20220223T203743Z
UID:2416-1750752000-1750762800@waileavillage.com
SUMMARY:Farmer's Market
DESCRIPTION:Follow our Instagram Page for Updates!
URL:https://waileavillage.com/event/farmers-market-2/2025-06-24/
END:VEVENT
BEGIN:VEVENT
DTSTART;TZID=America/Los_Angeles:20250619T160000
DTEND;TZID=America/Los_Angeles:20250619T190000
DTSTAMP:20260422T155207
CREATED:20220223T201253Z
LAST-MODIFIED:20240904T223212Z
UID:2129-1750348800-1750359600@waileavillage.com
SUMMARY:Sunset Market
DESCRIPTION:
URL:https://waileavillage.com/event/sunset-market-6/2025-06-19/
END:VEVENT
BEGIN:VEVENT
DTSTART;TZID=America/Los_Angeles:20250617T080000
DTEND;TZID=America/Los_Angeles:20250617T110000
DTSTAMP:20260422T155207
CREATED:20220223T203743Z
LAST-MODIFIED:20220223T203743Z
UID:2415-1750147200-1750158000@waileavillage.com
SUMMARY:Farmer's Market
DESCRIPTION:Follow our Instagram Page for Updates!
URL:https://waileavillage.com/event/farmers-market-2/2025-06-17/
END:VEVENT
BEGIN:VEVENT
DTSTART;TZID=America/Los_Angeles:20250614T120000
DTEND;TZID=America/Los_Angeles:20250618T180000
DTSTAMP:20260422T155207
CREATED:20250610T183832Z
LAST-MODIFIED:20250610T222434Z
UID:2305-1749902400-1750269600@waileavillage.com
SUMMARY:Rams Football Popup Shop
DESCRIPTION:Looking for exclusive Rams merch? Stop by our storefront at Wailea Village! \nWe’ll have top retail products from the Los Angeles Rams like jerseys\, lifestyle collections\, and commemorative apparel and novelty items including a special edition capsule designed exclusively for Maui by Hawaiian artist Aaron Kai. \nOperation Dates: 6/14 – 6/18 \nOperation Times: 12:00 p.m. – 6:00 p.m. \nOfficial Website of The Rams \n 
URL:https://waileavillage.com/event/rams-football-popup-shop/
ATTACH;FMTTYPE=image/jpeg:https://waileavillage.com/wp-content/uploads/2025/06/Rams-Football-Popup-Shop-june-2025.jpg
END:VEVENT
BEGIN:VEVENT
DTSTART;TZID=America/Los_Angeles:20250610T080000
DTEND;TZID=America/Los_Angeles:20250610T110000
DTSTAMP:20260422T155207
CREATED:20220223T203743Z
LAST-MODIFIED:20220223T203743Z
UID:2414-1749542400-1749553200@waileavillage.com
SUMMARY:Farmer's Market
DESCRIPTION:Follow our Instagram Page for Updates!
URL:https://waileavillage.com/event/farmers-market-2/2025-06-10/
END:VEVENT
BEGIN:VEVENT
DTSTART;TZID=America/Los_Angeles:20250603T080000
DTEND;TZID=America/Los_Angeles:20250603T110000
DTSTAMP:20260422T155207
CREATED:20220223T203743Z
LAST-MODIFIED:20220223T203743Z
UID:2413-1748937600-1748948400@waileavillage.com
SUMMARY:Farmer's Market
DESCRIPTION:Follow our Instagram Page for Updates!
URL:https://waileavillage.com/event/farmers-market-2/2025-06-03/
END:VEVENT
BEGIN:VEVENT
DTSTART;TZID=America/Los_Angeles:20250527T080000
DTEND;TZID=America/Los_Angeles:20250527T110000
DTSTAMP:20260422T155207
CREATED:20220223T203743Z
LAST-MODIFIED:20220223T203743Z
UID:2412-1748332800-1748343600@waileavillage.com
SUMMARY:Farmer's Market
DESCRIPTION:Follow our Instagram Page for Updates!
URL:https://waileavillage.com/event/farmers-market-2/2025-05-27/
END:VEVENT
BEGIN:VEVENT
DTSTART;TZID=America/Los_Angeles:20250520T080000
DTEND;TZID=America/Los_Angeles:20250520T110000
DTSTAMP:20260422T155207
CREATED:20220223T203743Z
LAST-MODIFIED:20220223T203743Z
UID:2411-1747728000-1747738800@waileavillage.com
SUMMARY:Farmer's Market
DESCRIPTION:Follow our Instagram Page for Updates!
URL:https://waileavillage.com/event/farmers-market-2/2025-05-20/
END:VEVENT
BEGIN:VEVENT
DTSTART;TZID=America/Los_Angeles:20250515T160000
DTEND;TZID=America/Los_Angeles:20250515T190000
DTSTAMP:20260422T155207
CREATED:20220223T201253Z
LAST-MODIFIED:20240904T223212Z
UID:2128-1747324800-1747335600@waileavillage.com
SUMMARY:Sunset Market
DESCRIPTION:
URL:https://waileavillage.com/event/sunset-market-6/2025-05-15/
END:VEVENT
BEGIN:VEVENT
DTSTART;TZID=America/Los_Angeles:20250513T080000
DTEND;TZID=America/Los_Angeles:20250513T110000
DTSTAMP:20260422T155207
CREATED:20220223T203743Z
LAST-MODIFIED:20220223T203743Z
UID:2410-1747123200-1747134000@waileavillage.com
SUMMARY:Farmer's Market
DESCRIPTION:Follow our Instagram Page for Updates!
URL:https://waileavillage.com/event/farmers-market-2/2025-05-13/
END:VEVENT
BEGIN:VEVENT
DTSTART;TZID=America/Los_Angeles:20250506T080000
DTEND;TZID=America/Los_Angeles:20250506T110000
DTSTAMP:20260422T155207
CREATED:20220223T203743Z
LAST-MODIFIED:20220223T203743Z
UID:2409-1746518400-1746529200@waileavillage.com
SUMMARY:Farmer's Market
DESCRIPTION:Follow our Instagram Page for Updates!
URL:https://waileavillage.com/event/farmers-market-2/2025-05-06/
END:VEVENT
BEGIN:VEVENT
DTSTART;TZID=America/Los_Angeles:20250429T080000
DTEND;TZID=America/Los_Angeles:20250429T110000
DTSTAMP:20260422T155207
CREATED:20220223T203743Z
LAST-MODIFIED:20220223T203743Z
UID:2408-1745913600-1745924400@waileavillage.com
SUMMARY:Farmer's Market
DESCRIPTION:Follow our Instagram Page for Updates!
URL:https://waileavillage.com/event/farmers-market-2/2025-04-29/
END:VEVENT
BEGIN:VEVENT
DTSTART;TZID=America/Los_Angeles:20250422T080000
DTEND;TZID=America/Los_Angeles:20250422T110000
DTSTAMP:20260422T155207
CREATED:20220223T203743Z
LAST-MODIFIED:20220223T203743Z
UID:2407-1745308800-1745319600@waileavillage.com
SUMMARY:Farmer's Market
DESCRIPTION:Follow our Instagram Page for Updates!
URL:https://waileavillage.com/event/farmers-market-2/2025-04-22/
END:VEVENT
BEGIN:VEVENT
DTSTART;TZID=America/Los_Angeles:20250417T160000
DTEND;TZID=America/Los_Angeles:20250417T190000
DTSTAMP:20260422T155207
CREATED:20220223T201253Z
LAST-MODIFIED:20240904T223212Z
UID:2127-1744905600-1744916400@waileavillage.com
SUMMARY:Sunset Market
DESCRIPTION:
URL:https://waileavillage.com/event/sunset-market-6/2025-04-17/
END:VEVENT
BEGIN:VEVENT
DTSTART;TZID=America/Los_Angeles:20250415T080000
DTEND;TZID=America/Los_Angeles:20250415T110000
DTSTAMP:20260422T155207
CREATED:20220223T203743Z
LAST-MODIFIED:20220223T203743Z
UID:2406-1744704000-1744714800@waileavillage.com
SUMMARY:Farmer's Market
DESCRIPTION:Follow our Instagram Page for Updates!
URL:https://waileavillage.com/event/farmers-market-2/2025-04-15/
END:VEVENT
BEGIN:VEVENT
DTSTART;TZID=America/Los_Angeles:20250408T080000
DTEND;TZID=America/Los_Angeles:20250408T110000
DTSTAMP:20260422T155207
CREATED:20220223T203743Z
LAST-MODIFIED:20220223T203743Z
UID:2405-1744099200-1744110000@waileavillage.com
SUMMARY:Farmer's Market
DESCRIPTION:Follow our Instagram Page for Updates!
URL:https://waileavillage.com/event/farmers-market-2/2025-04-08/
END:VEVENT
BEGIN:VEVENT
DTSTART;TZID=America/Los_Angeles:20250401T080000
DTEND;TZID=America/Los_Angeles:20250401T110000
DTSTAMP:20260422T155207
CREATED:20220223T203743Z
LAST-MODIFIED:20220223T203743Z
UID:2404-1743494400-1743505200@waileavillage.com
SUMMARY:Farmer's Market
DESCRIPTION:Follow our Instagram Page for Updates!
URL:https://waileavillage.com/event/farmers-market-2/2025-04-01/
END:VEVENT
END:VCALENDAR