BEGIN:VCALENDAR
VERSION:2.0
PRODID:-//Wailea Village - ECPv6.15.20//NONSGML v1.0//EN
CALSCALE:GREGORIAN
METHOD:PUBLISH
X-WR-CALNAME:Wailea Village
X-ORIGINAL-URL:https://waileavillage.com
X-WR-CALDESC:Events for Wailea Village
REFRESH-INTERVAL;VALUE=DURATION:PT1H
X-Robots-Tag:noindex
X-PUBLISHED-TTL:PT1H
BEGIN:VTIMEZONE
TZID:America/Los_Angeles
BEGIN:DAYLIGHT
TZOFFSETFROM:-0800
TZOFFSETTO:-0700
TZNAME:PDT
DTSTART:20180311T100000
END:DAYLIGHT
BEGIN:STANDARD
TZOFFSETFROM:-0700
TZOFFSETTO:-0800
TZNAME:PST
DTSTART:20181104T090000
END:STANDARD
BEGIN:DAYLIGHT
TZOFFSETFROM:-0800
TZOFFSETTO:-0700
TZNAME:PDT
DTSTART:20190310T100000
END:DAYLIGHT
BEGIN:STANDARD
TZOFFSETFROM:-0700
TZOFFSETTO:-0800
TZNAME:PST
DTSTART:20191103T090000
END:STANDARD
BEGIN:DAYLIGHT
TZOFFSETFROM:-0800
TZOFFSETTO:-0700
TZNAME:PDT
DTSTART:20200308T100000
END:DAYLIGHT
BEGIN:STANDARD
TZOFFSETFROM:-0700
TZOFFSETTO:-0800
TZNAME:PST
DTSTART:20201101T090000
END:STANDARD
END:VTIMEZONE
BEGIN:VEVENT
DTSTART;VALUE=DATE:20191017
DTEND;VALUE=DATE:20191021
DTSTAMP:20260423T172938
CREATED:20191018T134651Z
LAST-MODIFIED:20191018T134651Z
UID:625-1571270400-1571615999@waileavillage.com
SUMMARY:Hue Home - 20% off store-wide
DESCRIPTION:20% off store-wide sale from October 17th through the 20th at both locations!
URL:https://waileavillage.com/event/hue-home-20-off-store-wide/
LOCATION:Hue Home + Design\, 112 Wailea Ike Drive\, Wailea\, HI\, 96753\, United States
ATTACH;FMTTYPE=image/png:https://waileavillage.com/wp-content/uploads/2019/10/HUE-LOGO-FINAL.png
END:VEVENT
BEGIN:VEVENT
DTSTART;VALUE=DATE:20191001
DTEND;VALUE=DATE:20191101
DTSTAMP:20260423T172938
CREATED:20191018T134604Z
LAST-MODIFIED:20191018T134604Z
UID:622-1569888000-1572566399@waileavillage.com
SUMMARY:HUE Home - 30% LEE Industries and Lexington Home
DESCRIPTION:This October\, We are offering 30% off of custom order LEE Industries and Lexington Home brands for the month of October (Shipping and delivery are additional).
URL:https://waileavillage.com/event/hue-home-30-lee-industries-and-lexington-home/
LOCATION:Hue Home + Design\, 112 Wailea Ike Drive\, Wailea\, HI\, 96753\, United States
ATTACH;FMTTYPE=image/png:https://waileavillage.com/wp-content/uploads/2019/10/HUE-LOGO-FINAL.png
END:VEVENT
END:VCALENDAR