BEGIN:VCALENDAR
VERSION:2.0
PRODID:-//Wailea Village - ECPv6.15.20//NONSGML v1.0//EN
CALSCALE:GREGORIAN
METHOD:PUBLISH
X-ORIGINAL-URL:https://waileavillage.com
X-WR-CALDESC:Events for Wailea Village
REFRESH-INTERVAL;VALUE=DURATION:PT1H
X-Robots-Tag:noindex
X-PUBLISHED-TTL:PT1H
BEGIN:VTIMEZONE
TZID:America/Los_Angeles
BEGIN:DAYLIGHT
TZOFFSETFROM:-0800
TZOFFSETTO:-0700
TZNAME:PDT
DTSTART:20270314T100000
END:DAYLIGHT
BEGIN:STANDARD
TZOFFSETFROM:-0700
TZOFFSETTO:-0800
TZNAME:PST
DTSTART:20271107T090000
END:STANDARD
BEGIN:DAYLIGHT
TZOFFSETFROM:-0800
TZOFFSETTO:-0700
TZNAME:PDT
DTSTART:20280312T100000
END:DAYLIGHT
BEGIN:STANDARD
TZOFFSETFROM:-0700
TZOFFSETTO:-0800
TZNAME:PST
DTSTART:20281105T090000
END:STANDARD
BEGIN:DAYLIGHT
TZOFFSETFROM:-0800
TZOFFSETTO:-0700
TZNAME:PDT
DTSTART:20290311T100000
END:DAYLIGHT
BEGIN:STANDARD
TZOFFSETFROM:-0700
TZOFFSETTO:-0800
TZNAME:PST
DTSTART:20291104T090000
END:STANDARD
END:VTIMEZONE
BEGIN:VEVENT
DTSTART;TZID=America/Los_Angeles:20280314T080000
DTEND;TZID=America/Los_Angeles:20280314T110000
DTSTAMP:20260423T034449
CREATED:20220223T203743Z
LAST-MODIFIED:20220223T203743Z
UID:2582-1836633600-1836644400@waileavillage.com
SUMMARY:Farmer's Market
DESCRIPTION:Follow our Instagram Page for Updates!
URL:https://waileavillage.com/event/farmers-market-2/2028-03-14/
END:VEVENT
BEGIN:VEVENT
DTSTART;TZID=America/Los_Angeles:20280316T160000
DTEND;TZID=America/Los_Angeles:20280316T190000
DTSTAMP:20260423T034449
CREATED:20220223T201253Z
LAST-MODIFIED:20220223T201253Z
UID:2583-1836835200-1836846000@waileavillage.com
SUMMARY:Sunset Market
DESCRIPTION:
URL:https://waileavillage.com/event/sunset-market-6/2028-03-16/
END:VEVENT
BEGIN:VEVENT
DTSTART;TZID=America/Los_Angeles:20280321T080000
DTEND;TZID=America/Los_Angeles:20280321T110000
DTSTAMP:20260423T034449
CREATED:20220223T203743Z
LAST-MODIFIED:20220223T203743Z
UID:2584-1837238400-1837249200@waileavillage.com
SUMMARY:Farmer's Market
DESCRIPTION:Follow our Instagram Page for Updates!
URL:https://waileavillage.com/event/farmers-market-2/2028-03-21/
END:VEVENT
BEGIN:VEVENT
DTSTART;TZID=America/Los_Angeles:20280328T080000
DTEND;TZID=America/Los_Angeles:20280328T110000
DTSTAMP:20260423T034449
CREATED:20220223T203743Z
LAST-MODIFIED:20220223T203743Z
UID:2585-1837843200-1837854000@waileavillage.com
SUMMARY:Farmer's Market
DESCRIPTION:Follow our Instagram Page for Updates!
URL:https://waileavillage.com/event/farmers-market-2/2028-03-28/
END:VEVENT
BEGIN:VEVENT
DTSTART;TZID=America/Los_Angeles:20280404T080000
DTEND;TZID=America/Los_Angeles:20280404T110000
DTSTAMP:20260423T034449
CREATED:20220223T203743Z
LAST-MODIFIED:20220223T203743Z
UID:2586-1838448000-1838458800@waileavillage.com
SUMMARY:Farmer's Market
DESCRIPTION:Follow our Instagram Page for Updates!
URL:https://waileavillage.com/event/farmers-market-2/2028-04-04/
END:VEVENT
BEGIN:VEVENT
DTSTART;TZID=America/Los_Angeles:20280411T080000
DTEND;TZID=America/Los_Angeles:20280411T110000
DTSTAMP:20260423T034449
CREATED:20220223T203743Z
LAST-MODIFIED:20220223T203743Z
UID:2587-1839052800-1839063600@waileavillage.com
SUMMARY:Farmer's Market
DESCRIPTION:Follow our Instagram Page for Updates!
URL:https://waileavillage.com/event/farmers-market-2/2028-04-11/
END:VEVENT
BEGIN:VEVENT
DTSTART;TZID=America/Los_Angeles:20280418T080000
DTEND;TZID=America/Los_Angeles:20280418T110000
DTSTAMP:20260423T034449
CREATED:20220223T203743Z
LAST-MODIFIED:20220223T203743Z
UID:2588-1839657600-1839668400@waileavillage.com
SUMMARY:Farmer's Market
DESCRIPTION:Follow our Instagram Page for Updates!
URL:https://waileavillage.com/event/farmers-market-2/2028-04-18/
END:VEVENT
BEGIN:VEVENT
DTSTART;TZID=America/Los_Angeles:20280420T160000
DTEND;TZID=America/Los_Angeles:20280420T190000
DTSTAMP:20260423T034449
CREATED:20220223T201253Z
LAST-MODIFIED:20220223T201253Z
UID:2589-1839859200-1839870000@waileavillage.com
SUMMARY:Sunset Market
DESCRIPTION:
URL:https://waileavillage.com/event/sunset-market-6/2028-04-20/
END:VEVENT
END:VCALENDAR