BEGIN:VCALENDAR
VERSION:2.0
PRODID:-//Wailea Village - ECPv6.15.20//NONSGML v1.0//EN
CALSCALE:GREGORIAN
METHOD:PUBLISH
X-WR-CALNAME:Wailea Village
X-ORIGINAL-URL:https://waileavillage.com
X-WR-CALDESC:Events for Wailea Village
REFRESH-INTERVAL;VALUE=DURATION:PT1H
X-Robots-Tag:noindex
X-PUBLISHED-TTL:PT1H
BEGIN:VTIMEZONE
TZID:America/Los_Angeles
BEGIN:DAYLIGHT
TZOFFSETFROM:-0800
TZOFFSETTO:-0700
TZNAME:PDT
DTSTART:20180311T100000
END:DAYLIGHT
BEGIN:STANDARD
TZOFFSETFROM:-0700
TZOFFSETTO:-0800
TZNAME:PST
DTSTART:20181104T090000
END:STANDARD
BEGIN:DAYLIGHT
TZOFFSETFROM:-0800
TZOFFSETTO:-0700
TZNAME:PDT
DTSTART:20190310T100000
END:DAYLIGHT
BEGIN:STANDARD
TZOFFSETFROM:-0700
TZOFFSETTO:-0800
TZNAME:PST
DTSTART:20191103T090000
END:STANDARD
BEGIN:DAYLIGHT
TZOFFSETFROM:-0800
TZOFFSETTO:-0700
TZNAME:PDT
DTSTART:20200308T100000
END:DAYLIGHT
BEGIN:STANDARD
TZOFFSETFROM:-0700
TZOFFSETTO:-0800
TZNAME:PST
DTSTART:20201101T090000
END:STANDARD
BEGIN:DAYLIGHT
TZOFFSETFROM:-0800
TZOFFSETTO:-0700
TZNAME:PDT
DTSTART:20210314T100000
END:DAYLIGHT
BEGIN:STANDARD
TZOFFSETFROM:-0700
TZOFFSETTO:-0800
TZNAME:PST
DTSTART:20211107T090000
END:STANDARD
BEGIN:DAYLIGHT
TZOFFSETFROM:-0800
TZOFFSETTO:-0700
TZNAME:PDT
DTSTART:20220313T100000
END:DAYLIGHT
BEGIN:STANDARD
TZOFFSETFROM:-0700
TZOFFSETTO:-0800
TZNAME:PST
DTSTART:20221106T090000
END:STANDARD
BEGIN:DAYLIGHT
TZOFFSETFROM:-0800
TZOFFSETTO:-0700
TZNAME:PDT
DTSTART:20230312T100000
END:DAYLIGHT
BEGIN:STANDARD
TZOFFSETFROM:-0700
TZOFFSETTO:-0800
TZNAME:PST
DTSTART:20231105T090000
END:STANDARD
BEGIN:DAYLIGHT
TZOFFSETFROM:-0800
TZOFFSETTO:-0700
TZNAME:PDT
DTSTART:20240310T100000
END:DAYLIGHT
BEGIN:STANDARD
TZOFFSETFROM:-0700
TZOFFSETTO:-0800
TZNAME:PST
DTSTART:20241103T090000
END:STANDARD
BEGIN:DAYLIGHT
TZOFFSETFROM:-0800
TZOFFSETTO:-0700
TZNAME:PDT
DTSTART:20250309T100000
END:DAYLIGHT
BEGIN:STANDARD
TZOFFSETFROM:-0700
TZOFFSETTO:-0800
TZNAME:PST
DTSTART:20251102T090000
END:STANDARD
END:VTIMEZONE
BEGIN:VTIMEZONE
TZID:Pacific/Honolulu
BEGIN:STANDARD
TZOFFSETFROM:-1000
TZOFFSETTO:-1000
TZNAME:HST
DTSTART:20180101T000000
END:STANDARD
END:VTIMEZONE
BEGIN:VEVENT
DTSTART;TZID=America/Los_Angeles:20240625T080000
DTEND;TZID=America/Los_Angeles:20240625T110000
DTSTAMP:20260422T233405
CREATED:20220223T203743Z
LAST-MODIFIED:20220223T203743Z
UID:2364-1719302400-1719313200@waileavillage.com
SUMMARY:Farmer's Market
DESCRIPTION:Follow our Instagram Page for Updates!
URL:https://waileavillage.com/event/farmers-market-2/2024-06-25/
END:VEVENT
BEGIN:VEVENT
DTSTART;TZID=America/Los_Angeles:20240620T160000
DTEND;TZID=America/Los_Angeles:20240620T190000
DTSTAMP:20260422T233405
CREATED:20220223T201253Z
LAST-MODIFIED:20240904T223208Z
UID:2117-1718899200-1718910000@waileavillage.com
SUMMARY:Sunset Market
DESCRIPTION:
URL:https://waileavillage.com/event/sunset-market-6/2024-06-20/
END:VEVENT
BEGIN:VEVENT
DTSTART;TZID=America/Los_Angeles:20240618T080000
DTEND;TZID=America/Los_Angeles:20240618T110000
DTSTAMP:20260422T233405
CREATED:20220223T203743Z
LAST-MODIFIED:20220223T203743Z
UID:2363-1718697600-1718708400@waileavillage.com
SUMMARY:Farmer's Market
DESCRIPTION:Follow our Instagram Page for Updates!
URL:https://waileavillage.com/event/farmers-market-2/2024-06-18/
END:VEVENT
BEGIN:VEVENT
DTSTART;TZID=America/Los_Angeles:20240611T080000
DTEND;TZID=America/Los_Angeles:20240611T110000
DTSTAMP:20260422T233405
CREATED:20220223T203743Z
LAST-MODIFIED:20220223T203743Z
UID:2362-1718092800-1718103600@waileavillage.com
SUMMARY:Farmer's Market
DESCRIPTION:Follow our Instagram Page for Updates!
URL:https://waileavillage.com/event/farmers-market-2/2024-06-11/
END:VEVENT
BEGIN:VEVENT
DTSTART;TZID=America/Los_Angeles:20240604T080000
DTEND;TZID=America/Los_Angeles:20240604T110000
DTSTAMP:20260422T233405
CREATED:20220223T203743Z
LAST-MODIFIED:20220223T203743Z
UID:2361-1717488000-1717498800@waileavillage.com
SUMMARY:Farmer's Market
DESCRIPTION:Follow our Instagram Page for Updates!
URL:https://waileavillage.com/event/farmers-market-2/2024-06-04/
END:VEVENT
BEGIN:VEVENT
DTSTART;TZID=America/Los_Angeles:20240528T080000
DTEND;TZID=America/Los_Angeles:20240528T110000
DTSTAMP:20260422T233405
CREATED:20220223T203743Z
LAST-MODIFIED:20220223T203743Z
UID:2360-1716883200-1716894000@waileavillage.com
SUMMARY:Farmer's Market
DESCRIPTION:Follow our Instagram Page for Updates!
URL:https://waileavillage.com/event/farmers-market-2/2024-05-28/
END:VEVENT
BEGIN:VEVENT
DTSTART;TZID=America/Los_Angeles:20240521T080000
DTEND;TZID=America/Los_Angeles:20240521T110000
DTSTAMP:20260422T233405
CREATED:20220223T203743Z
LAST-MODIFIED:20220223T203743Z
UID:2359-1716278400-1716289200@waileavillage.com
SUMMARY:Farmer's Market
DESCRIPTION:Follow our Instagram Page for Updates!
URL:https://waileavillage.com/event/farmers-market-2/2024-05-21/
END:VEVENT
BEGIN:VEVENT
DTSTART;TZID=America/Los_Angeles:20240516T160000
DTEND;TZID=America/Los_Angeles:20240516T190000
DTSTAMP:20260422T233405
CREATED:20220223T201253Z
LAST-MODIFIED:20240904T223208Z
UID:2116-1715875200-1715886000@waileavillage.com
SUMMARY:Sunset Market
DESCRIPTION:
URL:https://waileavillage.com/event/sunset-market-6/2024-05-16/
END:VEVENT
BEGIN:VEVENT
DTSTART;TZID=America/Los_Angeles:20240514T080000
DTEND;TZID=America/Los_Angeles:20240514T110000
DTSTAMP:20260422T233405
CREATED:20220223T203743Z
LAST-MODIFIED:20220223T203743Z
UID:2358-1715673600-1715684400@waileavillage.com
SUMMARY:Farmer's Market
DESCRIPTION:Follow our Instagram Page for Updates!
URL:https://waileavillage.com/event/farmers-market-2/2024-05-14/
END:VEVENT
BEGIN:VEVENT
DTSTART;TZID=America/Los_Angeles:20240507T080000
DTEND;TZID=America/Los_Angeles:20240507T110000
DTSTAMP:20260422T233405
CREATED:20220223T203743Z
LAST-MODIFIED:20220223T203743Z
UID:2357-1715068800-1715079600@waileavillage.com
SUMMARY:Farmer's Market
DESCRIPTION:Follow our Instagram Page for Updates!
URL:https://waileavillage.com/event/farmers-market-2/2024-05-07/
END:VEVENT
BEGIN:VEVENT
DTSTART;TZID=America/Los_Angeles:20240430T080000
DTEND;TZID=America/Los_Angeles:20240430T110000
DTSTAMP:20260422T233405
CREATED:20220223T203743Z
LAST-MODIFIED:20220223T203743Z
UID:2356-1714464000-1714474800@waileavillage.com
SUMMARY:Farmer's Market
DESCRIPTION:Follow our Instagram Page for Updates!
URL:https://waileavillage.com/event/farmers-market-2/2024-04-30/
END:VEVENT
BEGIN:VEVENT
DTSTART;TZID=America/Los_Angeles:20240423T080000
DTEND;TZID=America/Los_Angeles:20240423T110000
DTSTAMP:20260422T233405
CREATED:20220223T203743Z
LAST-MODIFIED:20220223T203743Z
UID:2355-1713859200-1713870000@waileavillage.com
SUMMARY:Farmer's Market
DESCRIPTION:Follow our Instagram Page for Updates!
URL:https://waileavillage.com/event/farmers-market-2/2024-04-23/
END:VEVENT
BEGIN:VEVENT
DTSTART;TZID=America/Los_Angeles:20221215T160000
DTEND;TZID=America/Los_Angeles:20221215T190000
DTSTAMP:20260422T233405
CREATED:20221207T234837Z
LAST-MODIFIED:20221207T234837Z
UID:1949-1671120000-1671130800@waileavillage.com
SUMMARY:Holiday Market
DESCRIPTION:
URL:https://waileavillage.com/event/holiday-market/
END:VEVENT
BEGIN:VEVENT
DTSTART;TZID=America/Los_Angeles:20220222T080000
DTEND;TZID=America/Los_Angeles:20220222T110000
DTSTAMP:20260422T233405
CREATED:20220223T203743Z
LAST-MODIFIED:20250814T201107Z
UID:1641-1645516800-1645527600@waileavillage.com
SUMMARY:Farmer's Market
DESCRIPTION:Follow our Instagram Page for Updates!
URL:https://waileavillage.com/event/farmers-market-2/2022-02-22/
END:VEVENT
BEGIN:VEVENT
DTSTART;TZID=America/Los_Angeles:20220203T160000
DTEND;TZID=America/Los_Angeles:20220203T190000
DTSTAMP:20260422T233405
CREATED:20220223T201253Z
LAST-MODIFIED:20240904T223159Z
UID:1195-1643904000-1643914800@waileavillage.com
SUMMARY:Sunset Market
DESCRIPTION:
URL:https://waileavillage.com/event/sunset-market-6/2022-02-03/
END:VEVENT
BEGIN:VEVENT
DTSTART;TZID=America/Los_Angeles:20210804T173000
DTEND;TZID=America/Los_Angeles:20210804T183000
DTSTAMP:20260422T233405
CREATED:20210816T211749Z
LAST-MODIFIED:20210816T211923Z
UID:1042-1628098200-1628101800@waileavillage.com
SUMMARY:Island Power Yoga
DESCRIPTION:Island Power Yoga invites you to Wailea Village on Wednesday and Friday evenings to experience headset yoga. \n 
URL:https://waileavillage.com/event/island-power-yoga-2/2021-08-04/
END:VEVENT
BEGIN:VEVENT
DTSTART;TZID=America/Los_Angeles:20210415T160000
DTEND;TZID=America/Los_Angeles:20210415T190000
DTSTAMP:20260422T233405
CREATED:20210408T203455Z
LAST-MODIFIED:20210906T185745Z
UID:742-1618502400-1618513200@waileavillage.com
SUMMARY:POLYNESIAN CULTURAL SHOW & MARKET
DESCRIPTION:Ekomo Mai (Welcome)! Please join us every 3rd Thursday from 4pm to 7pm in celebrating our shared cultures of Polynesia. An experience in connecting with the people of the pacific Ohana and supporting our Maui Local Businesses.
URL:https://waileavillage.com/event/polynesian-cultural-show-market/2021-04-15/
ATTACH;FMTTYPE=image/jpeg:https://waileavillage.com/wp-content/uploads/2021/04/POLYNESIAN-CULTURAL-SHOW-MARKET-scaled.jpg
END:VEVENT
BEGIN:VEVENT
DTSTART;VALUE=DATE:20210401
DTEND;VALUE=DATE:20210402
DTSTAMP:20260422T233405
CREATED:20210408T203830Z
LAST-MODIFIED:20210408T203830Z
UID:754-1617235200-1617321599@waileavillage.com
SUMMARY:
DESCRIPTION:S T R IVING TO B R ING A UNIQUE “MADE IN MAUI” EXP E R I EN C E TO WAI L EA R E S IDENT S AND VI S I TOR S AL I K E T H ROUGH SUP POR T ING OUR MAUI LOC AL BUS INE S S E S . JOIN US FOR L IVE MUS I C AND FUN!
URL:https://waileavillage.com/event/754/2021-04-01/
ATTACH;FMTTYPE=image/jpeg:https://waileavillage.com/wp-content/uploads/2021/04/sunset-market-scaled.jpg
END:VEVENT
BEGIN:VEVENT
DTSTART;TZID=America/Los_Angeles:20210302T080000
DTEND;TZID=America/Los_Angeles:20210302T110000
DTSTAMP:20260422T233405
CREATED:20210302T215930Z
LAST-MODIFIED:20250812T212345Z
UID:675-1614672000-1614682800@waileavillage.com
SUMMARY:Farmer’s Market
DESCRIPTION:
URL:https://waileavillage.com/event/farmers-market/2021-03-02/
END:VEVENT
BEGIN:VEVENT
DTSTART;TZID=America/Los_Angeles:20210204T160000
DTEND;TZID=America/Los_Angeles:20210204T190000
DTSTAMP:20260422T233405
CREATED:20201204T003937Z
LAST-MODIFIED:20201204T004036Z
UID:664-1612454400-1612465200@waileavillage.com
SUMMARY:Sunset Market
DESCRIPTION:
URL:https://waileavillage.com/event/sunset-market-5/
END:VEVENT
BEGIN:VEVENT
DTSTART;TZID=America/Los_Angeles:20210121T160000
DTEND;TZID=America/Los_Angeles:20210121T190000
DTSTAMP:20260422T233405
CREATED:20201204T003925Z
LAST-MODIFIED:20201204T004029Z
UID:663-1611244800-1611255600@waileavillage.com
SUMMARY:Sunset Market
DESCRIPTION:
URL:https://waileavillage.com/event/sunset-market-4/
END:VEVENT
BEGIN:VEVENT
DTSTART;TZID=America/Los_Angeles:20210107T160000
DTEND;TZID=America/Los_Angeles:20210107T190000
DTSTAMP:20260422T233405
CREATED:20201204T003917Z
LAST-MODIFIED:20201204T004022Z
UID:662-1610035200-1610046000@waileavillage.com
SUMMARY:Sunset Market
DESCRIPTION:
URL:https://waileavillage.com/event/sunset-market-3/
END:VEVENT
BEGIN:VEVENT
DTSTART;TZID=America/Los_Angeles:20201217T160000
DTEND;TZID=America/Los_Angeles:20201217T190000
DTSTAMP:20260422T233405
CREATED:20201204T003906Z
LAST-MODIFIED:20201204T004011Z
UID:661-1608220800-1608231600@waileavillage.com
SUMMARY:Sunset Market
DESCRIPTION:
URL:https://waileavillage.com/event/sunset-market-2/
END:VEVENT
BEGIN:VEVENT
DTSTART;TZID=America/Los_Angeles:20201203T160000
DTEND;TZID=America/Los_Angeles:20201203T190000
DTSTAMP:20260422T233405
CREATED:20201204T003557Z
LAST-MODIFIED:20201204T003717Z
UID:657-1607011200-1607022000@waileavillage.com
SUMMARY:Sunset Market
DESCRIPTION:
URL:https://waileavillage.com/event/sunset-market/
END:VEVENT
BEGIN:VEVENT
DTSTART;TZID=America/Los_Angeles:20191116T170000
DTEND;TZID=America/Los_Angeles:20191116T180000
DTSTAMP:20260422T233405
CREATED:20191112T231524Z
LAST-MODIFIED:20191112T231524Z
UID:637-1573923600-1573927200@waileavillage.com
SUMMARY:Grand Opening Celebration
DESCRIPTION:
URL:https://waileavillage.com/event/grand-opening-celebration-2/
ATTACH;FMTTYPE=image/jpeg:https://waileavillage.com/wp-content/uploads/2019/11/Grand-Open-2.jpg
END:VEVENT
BEGIN:VEVENT
DTSTART;TZID=America/Los_Angeles:20191115T170000
DTEND;TZID=America/Los_Angeles:20191115T200000
DTSTAMP:20260422T233405
CREATED:20191112T231419Z
LAST-MODIFIED:20191112T231419Z
UID:634-1573837200-1573848000@waileavillage.com
SUMMARY:Grand Opening Celebration
DESCRIPTION:
URL:https://waileavillage.com/event/grand-opening-celebration/
ATTACH;FMTTYPE=image/jpeg:https://waileavillage.com/wp-content/uploads/2019/11/Grand-Open-2.jpg
END:VEVENT
BEGIN:VEVENT
DTSTART;TZID=America/Los_Angeles:20191115T170000
DTEND;TZID=America/Los_Angeles:20191115T200000
DTSTAMP:20260422T233405
CREATED:20191107T024015Z
LAST-MODIFIED:20191107T024015Z
UID:630-1573837200-1573848000@waileavillage.com
SUMMARY:Artful Scents Candle Making Workshop @ Paper Garden
DESCRIPTION:
URL:https://waileavillage.com/event/artful-scents-candle-making-workshop-paper-garden/
LOCATION:Paper Garden\, 100 Wailea Ike Dr\, Kihei\, HI\, 96753\, United States
ATTACH;FMTTYPE=image/jpeg:https://waileavillage.com/wp-content/uploads/2019/11/image0.jpeg
END:VEVENT
BEGIN:VEVENT
DTSTART;TZID=America/Los_Angeles:20191025T160000
DTEND;TZID=America/Los_Angeles:20191025T180000
DTSTAMP:20260422T233405
CREATED:20191018T134017Z
LAST-MODIFIED:20191018T134135Z
UID:618-1572019200-1572026400@waileavillage.com
SUMMARY:Kohola Gallery - Talk Story
DESCRIPTION:Talk Story with Master Photographer Douglas Hoffman. Topics will include Humpback Whales\, Green Sea Turtles\, & coral reefs.
URL:https://waileavillage.com/event/kohola-gallery-talk-story-3/
LOCATION:Kohola Gallery\, 116 Wailea Ike Dr Unit D2203\, Kihei\, HI\, 96753\, United States
ATTACH;FMTTYPE=image/png:https://waileavillage.com/wp-content/uploads/2019/08/kohola_logo.png
END:VEVENT
BEGIN:VEVENT
DTSTART;TZID=Pacific/Honolulu:20191023T160000
DTEND;TZID=Pacific/Honolulu:20191023T180000
DTSTAMP:20260422T233405
CREATED:20191018T133919Z
LAST-MODIFIED:20191018T134146Z
UID:616-1571846400-1571853600@waileavillage.com
SUMMARY:Kohola Gallery - Talk Story
DESCRIPTION:Talk Story with Master Photographer Douglas Hoffman. Learn where to go on Maui to create beautiful vacation memories and get some great tips on how to take better pictures.
URL:https://waileavillage.com/event/kohola-gallery-talk-story-2/
LOCATION:Kohola Gallery\, 116 Wailea Ike Dr Unit D2203\, Kihei\, HI\, 96753\, United States
ATTACH;FMTTYPE=image/png:https://waileavillage.com/wp-content/uploads/2019/08/kohola_logo.png
END:VEVENT
BEGIN:VEVENT
DTSTART;TZID=Pacific/Honolulu:20191021T130000
DTEND;TZID=Pacific/Honolulu:20191021T143000
DTSTAMP:20260422T233405
CREATED:20191018T133707Z
LAST-MODIFIED:20191018T134150Z
UID:611-1571662800-1571668200@waileavillage.com
SUMMARY:Kohola Gallery - Talk Story
DESCRIPTION:Talk Story with Master Photographer Douglas Hoffman. Learn where to go on Maui to create beautiful vacation memories and get some great tips on how to take better pictures.
URL:https://waileavillage.com/event/kohola-gallery-talk-story/
LOCATION:Kohola Gallery\, 116 Wailea Ike Dr Unit D2203\, Kihei\, HI\, 96753\, United States
ATTACH;FMTTYPE=image/png:https://waileavillage.com/wp-content/uploads/2019/08/kohola_logo.png
END:VEVENT
END:VCALENDAR