BEGIN:VCALENDAR
VERSION:2.0
PRODID:-//Wailea Village - ECPv6.15.20//NONSGML v1.0//EN
CALSCALE:GREGORIAN
METHOD:PUBLISH
X-WR-CALNAME:Wailea Village
X-ORIGINAL-URL:https://waileavillage.com
X-WR-CALDESC:Events for Wailea Village
REFRESH-INTERVAL;VALUE=DURATION:PT1H
X-Robots-Tag:noindex
X-PUBLISHED-TTL:PT1H
BEGIN:VTIMEZONE
TZID:America/Los_Angeles
BEGIN:DAYLIGHT
TZOFFSETFROM:-0800
TZOFFSETTO:-0700
TZNAME:PDT
DTSTART:20240310T100000
END:DAYLIGHT
BEGIN:STANDARD
TZOFFSETFROM:-0700
TZOFFSETTO:-0800
TZNAME:PST
DTSTART:20241103T090000
END:STANDARD
BEGIN:DAYLIGHT
TZOFFSETFROM:-0800
TZOFFSETTO:-0700
TZNAME:PDT
DTSTART:20250309T100000
END:DAYLIGHT
BEGIN:STANDARD
TZOFFSETFROM:-0700
TZOFFSETTO:-0800
TZNAME:PST
DTSTART:20251102T090000
END:STANDARD
BEGIN:DAYLIGHT
TZOFFSETFROM:-0800
TZOFFSETTO:-0700
TZNAME:PDT
DTSTART:20260308T100000
END:DAYLIGHT
BEGIN:STANDARD
TZOFFSETFROM:-0700
TZOFFSETTO:-0800
TZNAME:PST
DTSTART:20261101T090000
END:STANDARD
BEGIN:DAYLIGHT
TZOFFSETFROM:-0800
TZOFFSETTO:-0700
TZNAME:PDT
DTSTART:20270314T100000
END:DAYLIGHT
BEGIN:STANDARD
TZOFFSETFROM:-0700
TZOFFSETTO:-0800
TZNAME:PST
DTSTART:20271107T090000
END:STANDARD
END:VTIMEZONE
BEGIN:VEVENT
DTSTART;TZID=America/Los_Angeles:20260219T160000
DTEND;TZID=America/Los_Angeles:20260219T190000
DTSTAMP:20260422T214627
CREATED:20220223T201253Z
LAST-MODIFIED:20240904T223215Z
UID:2137-1771516800-1771527600@waileavillage.com
SUMMARY:Sunset Market
DESCRIPTION:
URL:https://waileavillage.com/event/sunset-market-6/2026-02-19/
END:VEVENT
BEGIN:VEVENT
DTSTART;TZID=America/Los_Angeles:20260217T080000
DTEND;TZID=America/Los_Angeles:20260217T110000
DTSTAMP:20260422T214627
CREATED:20220223T203743Z
LAST-MODIFIED:20220223T203743Z
UID:2450-1771315200-1771326000@waileavillage.com
SUMMARY:Farmer's Market
DESCRIPTION:Follow our Instagram Page for Updates!
URL:https://waileavillage.com/event/farmers-market-2/2026-02-17/
END:VEVENT
BEGIN:VEVENT
DTSTART;TZID=America/Los_Angeles:20260210T080000
DTEND;TZID=America/Los_Angeles:20260210T110000
DTSTAMP:20260422T214627
CREATED:20220223T203743Z
LAST-MODIFIED:20220223T203743Z
UID:2449-1770710400-1770721200@waileavillage.com
SUMMARY:Farmer's Market
DESCRIPTION:Follow our Instagram Page for Updates!
URL:https://waileavillage.com/event/farmers-market-2/2026-02-10/
END:VEVENT
BEGIN:VEVENT
DTSTART;TZID=America/Los_Angeles:20260203T080000
DTEND;TZID=America/Los_Angeles:20260203T110000
DTSTAMP:20260422T214627
CREATED:20220223T203743Z
LAST-MODIFIED:20220223T203743Z
UID:2448-1770105600-1770116400@waileavillage.com
SUMMARY:Farmer's Market
DESCRIPTION:Follow our Instagram Page for Updates!
URL:https://waileavillage.com/event/farmers-market-2/2026-02-03/
END:VEVENT
BEGIN:VEVENT
DTSTART;TZID=America/Los_Angeles:20260127T080000
DTEND;TZID=America/Los_Angeles:20260127T110000
DTSTAMP:20260422T214627
CREATED:20220223T203743Z
LAST-MODIFIED:20220223T203743Z
UID:2447-1769500800-1769511600@waileavillage.com
SUMMARY:Farmer's Market
DESCRIPTION:Follow our Instagram Page for Updates!
URL:https://waileavillage.com/event/farmers-market-2/2026-01-27/
END:VEVENT
BEGIN:VEVENT
DTSTART;TZID=America/Los_Angeles:20260120T080000
DTEND;TZID=America/Los_Angeles:20260120T110000
DTSTAMP:20260422T214627
CREATED:20220223T203743Z
LAST-MODIFIED:20220223T203743Z
UID:2446-1768896000-1768906800@waileavillage.com
SUMMARY:Farmer's Market
DESCRIPTION:Follow our Instagram Page for Updates!
URL:https://waileavillage.com/event/farmers-market-2/2026-01-20/
END:VEVENT
BEGIN:VEVENT
DTSTART;TZID=America/Los_Angeles:20260115T160000
DTEND;TZID=America/Los_Angeles:20260115T190000
DTSTAMP:20260422T214627
CREATED:20220223T201253Z
LAST-MODIFIED:20240904T223215Z
UID:2136-1768492800-1768503600@waileavillage.com
SUMMARY:Sunset Market
DESCRIPTION:
URL:https://waileavillage.com/event/sunset-market-6/2026-01-15/
END:VEVENT
BEGIN:VEVENT
DTSTART;TZID=America/Los_Angeles:20260113T080000
DTEND;TZID=America/Los_Angeles:20260113T110000
DTSTAMP:20260422T214627
CREATED:20220223T203743Z
LAST-MODIFIED:20220223T203743Z
UID:2445-1768291200-1768302000@waileavillage.com
SUMMARY:Farmer's Market
DESCRIPTION:Follow our Instagram Page for Updates!
URL:https://waileavillage.com/event/farmers-market-2/2026-01-13/
END:VEVENT
BEGIN:VEVENT
DTSTART;TZID=America/Los_Angeles:20260106T080000
DTEND;TZID=America/Los_Angeles:20260106T110000
DTSTAMP:20260422T214627
CREATED:20220223T203743Z
LAST-MODIFIED:20220223T203743Z
UID:2444-1767686400-1767697200@waileavillage.com
SUMMARY:Farmer's Market
DESCRIPTION:Follow our Instagram Page for Updates!
URL:https://waileavillage.com/event/farmers-market-2/2026-01-06/
END:VEVENT
BEGIN:VEVENT
DTSTART;TZID=America/Los_Angeles:20251230T080000
DTEND;TZID=America/Los_Angeles:20251230T110000
DTSTAMP:20260422T214627
CREATED:20220223T203743Z
LAST-MODIFIED:20220223T203743Z
UID:2443-1767081600-1767092400@waileavillage.com
SUMMARY:Farmer's Market
DESCRIPTION:Follow our Instagram Page for Updates!
URL:https://waileavillage.com/event/farmers-market-2/2025-12-30/
END:VEVENT
BEGIN:VEVENT
DTSTART;TZID=America/Los_Angeles:20251223T080000
DTEND;TZID=America/Los_Angeles:20251223T110000
DTSTAMP:20260422T214627
CREATED:20220223T203743Z
LAST-MODIFIED:20220223T203743Z
UID:2442-1766476800-1766487600@waileavillage.com
SUMMARY:Farmer's Market
DESCRIPTION:Follow our Instagram Page for Updates!
URL:https://waileavillage.com/event/farmers-market-2/2025-12-23/
END:VEVENT
BEGIN:VEVENT
DTSTART;TZID=America/Los_Angeles:20251218T160000
DTEND;TZID=America/Los_Angeles:20251218T190000
DTSTAMP:20260422T214627
CREATED:20220223T201253Z
LAST-MODIFIED:20240904T223213Z
UID:2135-1766073600-1766084400@waileavillage.com
SUMMARY:Sunset Market
DESCRIPTION:
URL:https://waileavillage.com/event/sunset-market-6/2025-12-18/
END:VEVENT
BEGIN:VEVENT
DTSTART;TZID=America/Los_Angeles:20251216T080000
DTEND;TZID=America/Los_Angeles:20251216T110000
DTSTAMP:20260422T214627
CREATED:20220223T203743Z
LAST-MODIFIED:20220223T203743Z
UID:2441-1765872000-1765882800@waileavillage.com
SUMMARY:Farmer's Market
DESCRIPTION:Follow our Instagram Page for Updates!
URL:https://waileavillage.com/event/farmers-market-2/2025-12-16/
END:VEVENT
BEGIN:VEVENT
DTSTART;TZID=America/Los_Angeles:20251209T080000
DTEND;TZID=America/Los_Angeles:20251209T110000
DTSTAMP:20260422T214627
CREATED:20220223T203743Z
LAST-MODIFIED:20220223T203743Z
UID:2440-1765267200-1765278000@waileavillage.com
SUMMARY:Farmer's Market
DESCRIPTION:Follow our Instagram Page for Updates!
URL:https://waileavillage.com/event/farmers-market-2/2025-12-09/
END:VEVENT
BEGIN:VEVENT
DTSTART;TZID=America/Los_Angeles:20251202T080000
DTEND;TZID=America/Los_Angeles:20251202T110000
DTSTAMP:20260422T214627
CREATED:20220223T203743Z
LAST-MODIFIED:20220223T203743Z
UID:2439-1764662400-1764673200@waileavillage.com
SUMMARY:Farmer's Market
DESCRIPTION:Follow our Instagram Page for Updates!
URL:https://waileavillage.com/event/farmers-market-2/2025-12-02/
END:VEVENT
BEGIN:VEVENT
DTSTART;TZID=America/Los_Angeles:20251125T080000
DTEND;TZID=America/Los_Angeles:20251125T110000
DTSTAMP:20260422T214627
CREATED:20220223T203743Z
LAST-MODIFIED:20220223T203743Z
UID:2438-1764057600-1764068400@waileavillage.com
SUMMARY:Farmer's Market
DESCRIPTION:Follow our Instagram Page for Updates!
URL:https://waileavillage.com/event/farmers-market-2/2025-11-25/
END:VEVENT
BEGIN:VEVENT
DTSTART;TZID=America/Los_Angeles:20251120T160000
DTEND;TZID=America/Los_Angeles:20251120T190000
DTSTAMP:20260422T214627
CREATED:20220223T201253Z
LAST-MODIFIED:20240904T223213Z
UID:2134-1763654400-1763665200@waileavillage.com
SUMMARY:Sunset Market
DESCRIPTION:
URL:https://waileavillage.com/event/sunset-market-6/2025-11-20/
END:VEVENT
BEGIN:VEVENT
DTSTART;TZID=America/Los_Angeles:20251118T080000
DTEND;TZID=America/Los_Angeles:20251118T110000
DTSTAMP:20260422T214627
CREATED:20220223T203743Z
LAST-MODIFIED:20220223T203743Z
UID:2437-1763452800-1763463600@waileavillage.com
SUMMARY:Farmer's Market
DESCRIPTION:Follow our Instagram Page for Updates!
URL:https://waileavillage.com/event/farmers-market-2/2025-11-18/
END:VEVENT
BEGIN:VEVENT
DTSTART;TZID=America/Los_Angeles:20251111T080000
DTEND;TZID=America/Los_Angeles:20251111T110000
DTSTAMP:20260422T214627
CREATED:20220223T203743Z
LAST-MODIFIED:20220223T203743Z
UID:2436-1762848000-1762858800@waileavillage.com
SUMMARY:Farmer's Market
DESCRIPTION:Follow our Instagram Page for Updates!
URL:https://waileavillage.com/event/farmers-market-2/2025-11-11/
END:VEVENT
BEGIN:VEVENT
DTSTART;TZID=America/Los_Angeles:20251104T080000
DTEND;TZID=America/Los_Angeles:20251104T110000
DTSTAMP:20260422T214627
CREATED:20220223T203743Z
LAST-MODIFIED:20220223T203743Z
UID:2435-1762243200-1762254000@waileavillage.com
SUMMARY:Farmer's Market
DESCRIPTION:Follow our Instagram Page for Updates!
URL:https://waileavillage.com/event/farmers-market-2/2025-11-04/
END:VEVENT
BEGIN:VEVENT
DTSTART;TZID=America/Los_Angeles:20251028T080000
DTEND;TZID=America/Los_Angeles:20251028T110000
DTSTAMP:20260422T214627
CREATED:20220223T203743Z
LAST-MODIFIED:20220223T203743Z
UID:2434-1761638400-1761649200@waileavillage.com
SUMMARY:Farmer's Market
DESCRIPTION:Follow our Instagram Page for Updates!
URL:https://waileavillage.com/event/farmers-market-2/2025-10-28/
END:VEVENT
BEGIN:VEVENT
DTSTART;TZID=America/Los_Angeles:20251021T080000
DTEND;TZID=America/Los_Angeles:20251021T110000
DTSTAMP:20260422T214627
CREATED:20220223T203743Z
LAST-MODIFIED:20220223T203743Z
UID:2433-1761033600-1761044400@waileavillage.com
SUMMARY:Farmer's Market
DESCRIPTION:Follow our Instagram Page for Updates!
URL:https://waileavillage.com/event/farmers-market-2/2025-10-21/
END:VEVENT
BEGIN:VEVENT
DTSTART;TZID=America/Los_Angeles:20251016T160000
DTEND;TZID=America/Los_Angeles:20251016T190000
DTSTAMP:20260422T214627
CREATED:20220223T201253Z
LAST-MODIFIED:20240904T223213Z
UID:2133-1760630400-1760641200@waileavillage.com
SUMMARY:Sunset Market
DESCRIPTION:
URL:https://waileavillage.com/event/sunset-market-6/2025-10-16/
END:VEVENT
BEGIN:VEVENT
DTSTART;TZID=America/Los_Angeles:20251014T080000
DTEND;TZID=America/Los_Angeles:20251014T110000
DTSTAMP:20260422T214627
CREATED:20220223T203743Z
LAST-MODIFIED:20220223T203743Z
UID:2432-1760428800-1760439600@waileavillage.com
SUMMARY:Farmer's Market
DESCRIPTION:Follow our Instagram Page for Updates!
URL:https://waileavillage.com/event/farmers-market-2/2025-10-14/
END:VEVENT
BEGIN:VEVENT
DTSTART;TZID=America/Los_Angeles:20251007T080000
DTEND;TZID=America/Los_Angeles:20251007T110000
DTSTAMP:20260422T214627
CREATED:20220223T203743Z
LAST-MODIFIED:20220223T203743Z
UID:2431-1759824000-1759834800@waileavillage.com
SUMMARY:Farmer's Market
DESCRIPTION:Follow our Instagram Page for Updates!
URL:https://waileavillage.com/event/farmers-market-2/2025-10-07/
END:VEVENT
BEGIN:VEVENT
DTSTART;TZID=America/Los_Angeles:20250930T080000
DTEND;TZID=America/Los_Angeles:20250930T110000
DTSTAMP:20260422T214627
CREATED:20220223T203743Z
LAST-MODIFIED:20220223T203743Z
UID:2430-1759219200-1759230000@waileavillage.com
SUMMARY:Farmer's Market
DESCRIPTION:Follow our Instagram Page for Updates!
URL:https://waileavillage.com/event/farmers-market-2/2025-09-30/
END:VEVENT
BEGIN:VEVENT
DTSTART;TZID=America/Los_Angeles:20250923T080000
DTEND;TZID=America/Los_Angeles:20250923T110000
DTSTAMP:20260422T214627
CREATED:20220223T203743Z
LAST-MODIFIED:20220223T203743Z
UID:2429-1758614400-1758625200@waileavillage.com
SUMMARY:Farmer's Market
DESCRIPTION:Follow our Instagram Page for Updates!
URL:https://waileavillage.com/event/farmers-market-2/2025-09-23/
END:VEVENT
BEGIN:VEVENT
DTSTART;TZID=America/Los_Angeles:20250918T160000
DTEND;TZID=America/Los_Angeles:20250918T190000
DTSTAMP:20260422T214627
CREATED:20220223T201253Z
LAST-MODIFIED:20240904T223213Z
UID:2132-1758211200-1758222000@waileavillage.com
SUMMARY:Sunset Market
DESCRIPTION:
URL:https://waileavillage.com/event/sunset-market-6/2025-09-18/
END:VEVENT
BEGIN:VEVENT
DTSTART;TZID=America/Los_Angeles:20250916T080000
DTEND;TZID=America/Los_Angeles:20250916T110000
DTSTAMP:20260422T214627
CREATED:20220223T203743Z
LAST-MODIFIED:20220223T203743Z
UID:2428-1758009600-1758020400@waileavillage.com
SUMMARY:Farmer's Market
DESCRIPTION:Follow our Instagram Page for Updates!
URL:https://waileavillage.com/event/farmers-market-2/2025-09-16/
END:VEVENT
BEGIN:VEVENT
DTSTART;TZID=America/Los_Angeles:20250909T080000
DTEND;TZID=America/Los_Angeles:20250909T110000
DTSTAMP:20260422T214627
CREATED:20220223T203743Z
LAST-MODIFIED:20220223T203743Z
UID:2427-1757404800-1757415600@waileavillage.com
SUMMARY:Farmer's Market
DESCRIPTION:Follow our Instagram Page for Updates!
URL:https://waileavillage.com/event/farmers-market-2/2025-09-09/
END:VEVENT
END:VCALENDAR